BEGIN:VCALENDAR
PRODID:-//eluceo/ical//2.0/EN
VERSION:2.0
CALSCALE:GREGORIAN
BEGIN:VEVENT
UID:19122c6a61d83fd96e41243f187abea7
DTSTAMP:20260423T193110Z
SUMMARY:Procurement of the World Bank Group - webinar
DESCRIPTION:Název akce: Procurement of the World Bank Group - webinar\nURL
 : https://www.spcr.cz/procurement-world-bank-group-webinar\nPopis: \nAtten
 d a webinar “Procurement of the World Bank Group: Business opportunities
  for Czech and Slovak companies in developing countries”. \nThe Nationa
 l Development Bank (Czechia)\, acting as a national contact point within t
 he Private Sector Liaison Officers (PSLO) Network\, cordially invites you 
 to attend a webinar “Procurement of the World Bank Group: Business oppor
 tunities for Czech and Slovak companies in developing countries”. Webina
 r is organized in close cooperation with Ministry of Finance of the Czech 
 Republic\, World Bank Group and Export-Import Bank of the Slovak Republic.
 The webinar is online and in English. For more information\, please see th
 e invitation below. ⇣⇣⇣ \n
URL:https://www.spcr.cz/procurement-world-bank-group-webinar
DTSTART:20250527T143000
DTEND:20250527T160000
LOCATION:
END:VEVENT
END:VCALENDAR
