BEGIN:VCALENDAR
PRODID:-//eluceo/ical//2.0/EN
VERSION:2.0
CALSCALE:GREGORIAN
BEGIN:VEVENT
UID:084fd97b1832317fc50c6a18845052e2
DTSTAMP:20260423T150357Z
SUMMARY:Zaměstnávání bez hranic - HR seminář
DESCRIPTION:Název akce: Zaměstnávání bez hranic - HR seminář\nURL: h
 ttps://www.spcr.cz/zamestnavani-bez-hranic-hr-seminar\nPopis: \nZaměstná
 vání cizinců může být klíčem k řešení nedostatku pracovní síl
 y\, ale zároveň přináší řadu specifických výzev. \nHR seminář 
 "Zaměstnávání bez hranic: Jak na cizince v českém pracovním prostř
 edí" vám nabídne praktické informace a konkrétní návody\, jak se s 
 nimi vypořádat – od orientace v legislativě přes porozumění kultur
 ním rozdílům až po využití nové regionální podpory v podobě slu
 žby Welcome Office pro Liberecký kraj.Co si z akce odnesete:Zorientujete
  se v aktuálních legislativních požadavcích pro zaměstnávání cizi
 nců.Porozumíte kulturním rozdílům a očekávání zahraničních prac
 ovníků.Získáte praktické tipy pro efektivní zaměstnávání zahrani
 čních pracovníků.Pro koho je akce určena:HR manažeři a specialisté
 Zástupci firem zaměstnávajících zahraniční pracovníkyPersonalisté
  a vedoucí týmůDalší podrobnosti včetně registrace najdete na webu 
 události. \n
URL:https://www.spcr.cz/zamestnavani-bez-hranic-hr-seminar
DTSTART:20250617T090000
DTEND:20250617T121500
LOCATION:Lipo.ink Meeting Point\, U Jezu 525/4\, 460 01 Liberec
END:VEVENT
END:VCALENDAR
