BEGIN:VCALENDAR
PRODID:-//eluceo/ical//2.0/EN
VERSION:2.0
CALSCALE:GREGORIAN
BEGIN:VEVENT
UID:930cdebc0304292410098006ca6e3972
DTSTAMP:20260423T163311Z
SUMMARY:Úspěšný návrh do NATO akcelerátoru DIANA - webinář
DESCRIPTION:Název akce: Úspěšný návrh do NATO akcelerátoru DIANA - w
 ebinář\nURL: https://www.spcr.cz/uspesny-navrh-do-nato-akceleratoru-dian
 a-webinar\nPopis: \n\nInovační akcelerátor Severoatlantické aliance\, 
 který funguje pod zkratkou DIANA  (Defense Innovation Accelerator for th
 e North Atlantic)\, chystá v červnu otevření další výzvy pro inovat
 ivní firmy\, které pracují s duálně využitelnými technologiemi.Zv
 ažujete zapojení do akceleračního programu NATO? Nenechte si ujít př
 ipravované webináře – ty vám představí samotnou výzvu\, poradí\,
  jak napsat úspěšný návrh a přiblíží specifika duálních technol
 ogií.Nezávazné konzultace a poradenství poskytuje také agentura Czech
 Invest – pomáhá zorientovat se v podmínkách i s případnou přípra
 vou přihlášky. Registraci k jednotlivým termínům spouští DIANA n
 ěkolik dní před akcí na svém profilu na LinkedIn. Zde také najdete o
 dkaz na záznamy z předchozích školení. Webinář je online a v angli
 čtině (Tips for a Successful Proposal). \n
URL:https://www.spcr.cz/uspesny-navrh-do-nato-akceleratoru-diana-webinar
DTSTART:20250605T150000
DTEND:20250605T170000
LOCATION:
END:VEVENT
END:VCALENDAR
