BEGIN:VCALENDAR
PRODID:-//eluceo/ical//2.0/EN
VERSION:2.0
CALSCALE:GREGORIAN
BEGIN:VEVENT
UID:7e0f760f7e2590a0e2729778c4ac0d20
DTSTAMP:20260423T150357Z
SUMMARY:Úspěšný návrh do NATO akcelerátoru DIANA - webinář 2
DESCRIPTION:Název akce: Úspěšný návrh do NATO akcelerátoru DIANA - w
 ebinář 2\nURL: https://www.spcr.cz/uspesny-navrh-do-nato-akceleratoru-di
 ana-webinar-2\nPopis: \n\nInovační akcelerátor Severoatlantické alianc
 e\, který funguje pod zkratkou DIANA  (Defense Innovation Accelerator fo
 r the North Atlantic)\, chystá v červnu otevření další výzvy pro in
 ovativní firmy\, které pracují s duálně využitelnými technologiem
 i.Zvažujete zapojení do akceleračního programu NATO? Nenechte si ujít
  připravované webináře – ty vám představí samotnou výzvu\, porad
 í\, jak napsat úspěšný návrh a přiblíží specifika duálních tec
 hnologií.Nezávazné konzultace a poradenství poskytuje také agentura C
 zechInvest – pomáhá zorientovat se v podmínkách i s případnou př
 ípravou přihlášky. Registraci k jednotlivým termínům spouští DIA
 NA několik dní před akcí na svém profilu na LinkedIn. Zde také najde
 te odkaz na záznamy z předchozích školení. Webinář je online a v an
 gličtině (Tips for a Successful Proposal). \n
URL:https://www.spcr.cz/uspesny-navrh-do-nato-akceleratoru-diana-webinar-2
DTSTART:20250619T150000
DTEND:20250619T170000
LOCATION:
END:VEVENT
END:VCALENDAR
