BEGIN:VCALENDAR
PRODID:-//eluceo/ical//2.0/EN
VERSION:2.0
CALSCALE:GREGORIAN
BEGIN:VEVENT
UID:a830ac49155c6f7cabfc809a76c7dd10
DTSTAMP:20260423T173745Z
SUMMARY:Podnikatelská mise s prezidentem ČR do Japonska
DESCRIPTION:Název akce: Podnikatelská mise s prezidentem ČR do Japonska\
 nURL: https://www.spcr.cz/podnikatelska-mise-s-prezidentem-cr-do-japonska\
 nPopis: \nSvaz průmyslu a dopravy ČR (SP ČR) si vás dovoluje informova
 t o možnosti účasti v podnikatelské delegaci doprovázející prezide
 nta ČR Petra Pavla na jeho oficiální cestě do Japonska. Podnikatelská
  mise se pravděpodobně uskuteční v termínu od 20. do 27. července 
 2025 a za Svaz průmyslu a dopravy ČR ji povede viceprezident Radek Šp
 icar.Delegace během cesty navštíví hlavní město Tokio a místo kon
 ání EXPO 2025 Ósaku\, které je zároveň třetím největším městem
  v Japonsku. Na programu budou podnikatelská setkání\, B2B/B2G networ
 king\, návštěva EXPO 2025 v Ósace a možné návštěvy veletrhů\, kt
 eré se v tom čase konají v Japonsku: TECHNO-FRONTIER 2025 | Japan Man
 agement Association a Maintenance Resilience TOKYO 2025 | Japan Management
  Association.\nÚčast v této podnikatelské misi je určena pro firmy a
  organizace\, které již v teritoriu investice a aktivity mají\, nebo 
 začínají nové konkrétní projekty. Prioritními sektory pro tuto pod
 nikatelskou misi jsou bezpečnost a zvládání krizových situací včet
 ně přírodních katastrof. Vítané jsou společnosti\, které nabízej
 í softwarová řešení\, zástupci leteckého\, vesmírného a obrannéh
 o průmyslu a firmy z oblastí zdravotnictví.Zálohová cena za účast 
 v podnikatelské delegaci je 120.000\,- Kč včetně DPH pro nečleny a
  102.000\,- Kč včetně DPH pro členy SP ČR. Obsah účastnického bal
 íčku je rozepsán v přihlášce.V případě zájmu o účast vás pros
 íme o následující: Zaslání vyplněné\, podepsané a naskenované z
 ávazné přihlášky\;Vyplnění elektronického registračního formul
 áře\, který obsahuje informace nezbytné pro vaše uvedení v katalogu 
 podnikatelské mise\, vyhledání vhodných partnerů pro B2B networking\,
  ale i pro odbavení v letadle vládní letky či ubytování v hotelu\;Za
 slání skenu datové stránky vašeho pasu (platnost pasu min. 6 měsí
 ců po návratu zpět do ČR)\;Vyplnění jednoho vzorového snímku v po
 werpointu do společné prezentace\, která může být promítána v rá
 mci networkingových akcí\;Zaslání profilové fotografie účastníka
  do připraveného katalogu firem (min. rozlišení 500 Kb\, 600 x 800 pi
 xelů)\;Zaslání loga společnosti (organizace) do tištěného katalogu 
 firem (v křivkách/kvalitě vhodné pro tisk). Dokumenty zašlete na e-m
 ail mnatafalusi@spcr.cz nejpozději do 9. června 2025 do 18:00 hod.Př
 i vyplňování profilu mějte prosím na paměti\, že slouží jako podk
 lad pro výběr místních firem a partnerů pro networking a také pro v
 ýrobu prezentačního tištěného katalogu mise\, který budeme připrav
 ovat v angličtině a jehož cílem je co nejlépe druhou stranu seznámi
 t s profily a kontaktními údaji zúčastněných firem. Prosíme proto o
  co nejkonkrétnější upřesnění vašich zájmů.Upozorňujeme\, že b
 ez vyplnění elektronického formuláře nemůžeme vaši přihlášku zp
 racovat. Výběr místních firem a partnerů pro networking bude probíh
 at na základě vámi dodaných profilů a informací o vaší firmě v to
 mto elektronickém formuláři. Prosíme proto o co nejkonkrétnější up
 řesnění vašich zájmů.Další pokyny vám sdělíme po obdržení va
 ší závazné přihlášky a provedení elektronické registrace. Informa
 ce vám budeme průběžně zasílat elektronickou poštou\, včetně zál
 ohové faktury na účastnický poplatek pro firmy zařazené do podnikate
 lské delegace. Vzhledem k omezené kapacitě prosíme o včasnou registr
 aci. Pořadatelé si vyhrazují právo odmítnout zájemce o účast s ohl
 edem na vhodnost oborového zaměření a v případě převisu poptávky 
 nad počtem míst v letadle. Děkujeme za pochopení. Podnikatelskou misi
  organizačně zajišťuje manažer Sekce vnějších vztahů Martin Nata
 faluši (email: mnatafalusi@spcr.cz\, tel. 733 643 556). V případě 
 jakýchkoliv dotazů nás neváhejte kontaktovat.Těšíme se na vaši ú
 čast.Více o navštívených teritoriích a obchodních příležitostech
  v nich najdete pod odkazy níže:BusinessInfo – JaponskoČesko na EXPO
  2025\n
URL:https://www.spcr.cz/podnikatelska-mise-s-prezidentem-cr-do-japonska
DTSTART:20250720T090100
DTEND:20250727T174200
LOCATION:Japonsko
END:VEVENT
END:VCALENDAR
