BEGIN:VCALENDAR
PRODID:-//eluceo/ical//2.0/EN
VERSION:2.0
CALSCALE:GREGORIAN
BEGIN:VEVENT
UID:5379096317849ba5c73e84ce07913f4d
DTSTAMP:20260423T125316Z
SUMMARY:Podnikání ve Francii - webinář
DESCRIPTION:Název akce: Podnikání ve Francii - webinář\nURL: https://w
 ww.spcr.cz/podnikani-ve-francii-webinar\nPopis: \n\nJaké výzvy a příle
 žitosti čekají české firmy při vstupu na francouzský trh? Jaké pr
 ávní náležitosti je třeba znát při zakládání pobočky nebo uzav
 írání smluv s francouzskými partnery? A jak vám může CzechTrade pom
 oci s úspěšnou expanzí do jedné z největších evropských ekonomik?
 Agentura CzechTrade Vás zve na online webinář\, kde vám odborníci na 
 francouzský trh a francouzské právo přiblíží exportní možnosti a 
 právní rámec podnikání ve Francii. Tento webinář je určen pro čes
 ké exportéry\, kteří plánují rozšířit své aktivity na francouzsk
 ém trhu nebo zde hledají obchodní partnery. Účastníci získají klí
 čové informace o právním rámci podnikání ve Francii\, specifikách 
 zaměstnávání pracovníků a aktuální ekonomicko-politické situaci v
  zemi. Během webináře vystoupí odborníci na obchodní právo a zahran
 iční expanzi\, kteří představí praktické rady a konkrétní příkl
 ady z praxe. Více informací včetně možnosti registrace naleznete zde
 . \n
URL:https://www.spcr.cz/podnikani-ve-francii-webinar
DTSTART:20250528T100000
DTEND:20250528T113000
LOCATION:
END:VEVENT
END:VCALENDAR
