BEGIN:VCALENDAR
PRODID:-//eluceo/ical//2.0/EN
VERSION:2.0
CALSCALE:GREGORIAN
BEGIN:VEVENT
UID:78bd48992ee0ec1070a00f35bbfb9af2
DTSTAMP:20260423T130007Z
SUMMARY:Možnosti expanze do Itálie - webinář
DESCRIPTION:Název akce: Možnosti expanze do Itálie - webinář\nURL: htt
 ps://www.spcr.cz/moznosti-expanze-do-italie-webinar\nPopis: \nAgentura Cze
 chTrade vás zve na webinář: Možnosti expanze do Itálie – obchodní 
 příležitosti a právní rámec vstupu české firmy na trh.\nPrvní č
 ást v češtiněV první části semináře se seznámíte se specifiky i
 talského trhu\, obchodním prostředím a klíčovými faktory\, na kter
 é si dát pozor při vstupu na tento trh. Představíme Vám aktuální e
 konomickou situaci v Itálii a makroekonomická data\, která pomohou zasa
 dit informace do širšího kontextu.Druhá část v angličtiněDruhou č
 ást semináře povede Dott. Alessandro Ferri\, advokát a specialista na 
 obchodní právo. Poskytne úvodní přehled právních a administrativní
 ch aspektů vstupu české firmy na italský trh – ať už formou poboč
 ky\, nebo nově založené společnosti. Vysvětlíme si hlavní rozdíly 
 mezi českým a italským administrativním prostředím a představíme r
 ole jednotlivých profesí\, které se podílejí na zakládání firem a 
 provádění klíčových úkonů.Více informací včetně možnosti regi
 strace naleznete zde.\n
URL:https://www.spcr.cz/moznosti-expanze-do-italie-webinar
DTSTART:20250605T100000
DTEND:20250605T113000
LOCATION:
END:VEVENT
END:VCALENDAR
