BEGIN:VCALENDAR
PRODID:-//eluceo/ical//2.0/EN
VERSION:2.0
CALSCALE:GREGORIAN
BEGIN:VEVENT
UID:68cbbb63929c4c4b92a800d2980b864f
DTSTAMP:20260423T130007Z
SUMMARY: Nizozemsko – Příležitosti pro české výrobní firmy
DESCRIPTION:Název akce:  Nizozemsko – Příležitosti pro české výrob
 ní firmy\nURL: https://www.spcr.cz/nizozemsko-prilezitosti-pro-ceske-vyro
 bni-firmy\nPopis: \nAgentura CzechTrade vás zve na seminář pro české 
 výrobní firmy\, který se zaměří na exportní příležitosti na nizo
 zemském trhu. Nizozemsko je jednou z nejotevřenějších ekonomik Evropy
  a nabízí široké možnosti napříč průmyslovými obory.\nPředstav
 íme vám klíčové sektory s exportním potenciálem – hutní a stroj
 írenský průmysl\, elektrotechniku\, automobilový a chemický průmysl\
 , stavebnictví\, potravinářství\, textil\, sklářství\, papírenstv
 í a zpracování dřeva. Dozvíte se o aktuálních trendech v nizozemsk
 ém průmyslu pro rok 2025\, včetně důrazu na udržitelnost a inovace.Z
 aměříme se také na specifika nizozemského podnikatelského prostřed
 í\, kulturní rozdíly a doporučení pro vstup na trh. Představíme\, j
 ak vám může pomoci zahraniční kancelář CzechTrade Nizozemsko.Nizoze
 msko je stabilní a transparentní trh\, kde české firmy mají dobré jm
 éno. Připojte se a objevte nové obchodní příležitosti!Více informa
 cí včetně možnosti registrace naleznete zde.\n
URL:https://www.spcr.cz/nizozemsko-prilezitosti-pro-ceske-vyrobni-firmy
DTSTART:20250618T133000
DTEND:20250618T150000
LOCATION:Liberec\, U Jezu 525/4
END:VEVENT
END:VCALENDAR
