BEGIN:VCALENDAR
PRODID:-//eluceo/ical//2.0/EN
VERSION:2.0
CALSCALE:GREGORIAN
BEGIN:VEVENT
UID:e23c7f8dafbedcab28854d2b79366bca
DTSTAMP:20260423T150357Z
SUMMARY:Austrálie a Nový Zéland - exportní seminář
DESCRIPTION:Název akce: Austrálie a Nový Zéland - exportní seminář\n
 URL: https://www.spcr.cz/australie-novy-zeland-exportni-seminar\nPopis: \n
 Agentura CzechTrade Vás zve na exportní seminář s názvem: Austrálie 
 a Nový Zéland – stabilní partner pro zahraniční obchod v době glob
 ální nestability.\nSeminář se zaměří na export do Austrálie a na N
 ový Zéland. Je určen firmám\, které mají zkušenosti s exportem do E
 U a hledají nové příležití mimo hranice Evropské Unie. Během semin
 áře získají firmy informace o aktuálním vývoji hospodářství v Au
 strálii. Kulturní blízkost Austrálie a Nového Zélandu k České repu
 blice. Dozvíte se také jak Vám při expanzi mohou pomoci služby agentu
 ry CzechTrade.Více informací včetně možnosti registrace naleznete zde
 . \n
URL:https://www.spcr.cz/australie-novy-zeland-exportni-seminar
DTSTART:20250619T100000
DTEND:20250619T123000
LOCATION:Regionální centrum Olomouc\, Jeremenkova 40b\, salonek BERENICÉ
 \, Olomouc\, Česká republika
END:VEVENT
END:VCALENDAR
