BEGIN:VCALENDAR
PRODID:-//eluceo/ical//2.0/EN
VERSION:2.0
CALSCALE:GREGORIAN
BEGIN:VEVENT
UID:68e7feb5a94604f9b2665dae53007ea2
DTSTAMP:20260423T163435Z
SUMMARY:Exportní potenciál Srbska\, Chorvatska a Slovinska
DESCRIPTION:Název akce: Exportní potenciál Srbska\, Chorvatska a Slovins
 ka\nURL: https://www.spcr.cz/exportni-potencial-srbska-chorvatska-slovinsk
 a\nPopis: \nAgentura CzechTrade vás zve na prezenční seminář zaměře
 ný na aktuální exportní příležitosti v Srbsku\, Chorvatsku a Slovin
 sku. Tyto tři země představují stabilní trhy s rostoucí poptávkou p
 o moderních technologiích\, stavebních řešeních a vybavení pro turi
 stický sektor.\nV rámci semináře získáte přehled o ekonomickém vý
 voji v jednotlivých zemích a konkrétních exportních příležitostech
  pro české firmy – zejména ve stavebnictví\, energetice\, vodohospod
 ářství\, průmyslovém designu a vybavení hotelů. Pozornost bude rovn
 ěž věnována přípravám na světovou výstavu EXPO 2027 v Bělehradě
 .Ředitelé zahraničních kanceláří CzechTrade v Záhřebu a Bělehrad
 ě vám představí aktuální poptávku na trhu a možnosti podpory česk
 ých firem na těchto trzích. Po přednáškách budete mít možnost ind
 ividuálních konzultací s řediteli zahraničních kanceláří. Více 
 informací včetně možnosti registrace naleznete zde.\n
URL:https://www.spcr.cz/exportni-potencial-srbska-chorvatska-slovinska
DTSTART:20250619T133000
DTEND:20250619T153000
LOCATION:Jihočeská hospodářská komora\, Husova 9\, České Budějovice
END:VEVENT
END:VCALENDAR
