BEGIN:VCALENDAR
PRODID:-//eluceo/ical//2.0/EN
VERSION:2.0
CALSCALE:GREGORIAN
BEGIN:VEVENT
UID:8a462e0fb6d416457e5f027398d45f1e
DTSTAMP:20260423T163428Z
SUMMARY:Latinská Amerika - aktuální příležitosti
DESCRIPTION:Název akce: Latinská Amerika - aktuální příležitosti\nUR
 L: https://www.spcr.cz/latinska-amerika-aktualni-prilezitosti\nPopis: \nRe
 gion Latinské Ameriky\, Karibiku a Střední Ameriky nabízí zajímavé 
 obchodní příležitosti pro české exportéry\, a to i přes aktuální
  globální výzvy. \nNa semináři se zaměříme na exportní zájmy Č
 eské republiky v zemích jako Chile\, Peru\, Brazílie\, Kolumbie\, Mexik
 u a také ve státech Střední Ameriky a Karibiku. Představíme perspekt
 ivní obory\, konkrétní příležitosti a praktické tipy pro vstup na t
 yto trhy. Účastníci se rovněž seznámí s možnostmi podpory exportu\
 , místními obchodními zvyklostmi\, plánovanými veletrhy a úspěšný
 mi příklady českých firem\, které v daných regionech působí.Více 
 informací včetně možnosti registrace naleznete zde.\n
URL:https://www.spcr.cz/latinska-amerika-aktualni-prilezitosti
DTSTART:20250619T130000
DTEND:20250619T160000
LOCATION:Vědeckotechnický park Plzeň\, Teslova 3\, Plzeň
END:VEVENT
END:VCALENDAR
