BEGIN:VCALENDAR
PRODID:-//eluceo/ical//2.0/EN
VERSION:2.0
CALSCALE:GREGORIAN
BEGIN:VEVENT
UID:4e6ec39add972ac63bfc7a8a473aa0c8
DTSTAMP:20260423T011616Z
SUMMARY:EU – Pacific Business Forum
DESCRIPTION:Název akce: EU – Pacific Business Forum\nURL: https://www.sp
 cr.cz/eu-pacific-business-forum\nPopis: \nVelvyslanectví České republik
 y v Canbeře zve české firmy\, instituce a organizace k účasti na EU 
 – Pacific Business Forum\, které se uskuteční ve dnech 4. a 5. zář
 í 2025 v Nadi na Fidži. \nCílem fóra je posílit spolupráci EU s reg
 ionem Pacifiku v ekonomice\, obchodě a investicích a současně podpoři
 t vnitroregionální obchod mezi pacifickými státy\, včetně podpory pr
 ivátních firem.Mezi perspektivní obory\, na které se bude soustředit 
 pozornost účastníků fóra\, patří zejména: blue economy (podpora ho
 spodářství v přímořských oblastech)\, digitální konektivita\, obn
 ovitelné zdroje a klimatické změny. Součástí jednání účastníků
  budou networkingové aktivity B2G a B2B.Za EU se zúčastní komisař pro
  mezinárodní partnerství Jozef Síkela.Organizátoři předpokládají 
 účast zástupců privátních firem\, odborníků\, politických a ekono
 mických lídrů\, asociací\, obchodních komor i vládních úředníků
  z členských států EU a států Pacifiku.V sekci Ke stažení naleznet
 e podrobný koncept fóra. ⇣⇣⇣Případnou účast je třeba ohlásit
  do 10. června 2025. Kontaktujte prosím: Milan VágnerMinister Counsell
 orEmbassy of the Czech Republic in Canberramilan.vagner@mzv.gov.czwww.mzv.
 gov.cz/canberra  \n
URL:https://www.spcr.cz/eu-pacific-business-forum
DTSTART:20250904T000000
DTEND:20250905T235900
LOCATION:Nadi\, Fidži
END:VEVENT
END:VCALENDAR
