BEGIN:VCALENDAR
PRODID:-//eluceo/ical//2.0/EN
VERSION:2.0
CALSCALE:GREGORIAN
BEGIN:VEVENT
UID:b3a8b1d2cf5b173e9a96eb09e5660457
DTSTAMP:20260423T150357Z
SUMMARY:Bezpečný obsah v době generativní AI - konference
DESCRIPTION:Název akce: Bezpečný obsah v době generativní AI - konfere
 nce\nURL: https://www.spcr.cz/bezpecny-obsah-v-dobe-generativni-ai-konfere
 nce\nPopis: \n\nSvaz průmyslu a dopravy ČR a EDIH CTU si vás dovolují 
 pozvat na další vzdělávací akci!Generativní umělá inteligence dos
 áhla úrovně\, kdy je schopna vytvářet dokonale věrohodné texty\, ob
 razy\, videa i rozhovory. Videa s falešnými tvářemi\, hlasovými napod
 obeninami i realistickými dokumenty již nejsou vizí budoucnosti\, ale r
 ealitou dneška. A co přijde zítra? Svět\, ve kterém bude nutné ově
 řovat naprosto vše — od e-mailu po laboratorní protokol.Do tohoto nal
 éhavého tématu vás uvede Ing. Jan Čech\, Ph.D. z katedry kybernetiky 
 ČVUT FEL\, jeden z předních odborníků na detekci obrazových a video 
 deepfakes. Jeho prezentace vám otevře oči — a pravděpodobně vás i 
 zneklidní.Naštěstí nejsme bezbranní. V dalších příspěvcích vám
  ukážeme konkrétní způsoby\, jak lze pomocí technologií jako blockc
 hain zajistit důvěryhodnost a neměnnost dokumentů a dat.Představíme 
 reálné využití těchto nástrojů v rámci ověřování akreditací k
 alibračních a zkušebních laboratoří\, jak jej uplatňuje Český ins
 titut pro akreditaci (ČIA).Dotkneme se i oblasti zdravotnictví\, kde se 
 nyní řeší elektronizace zdravotnické dokumentace\, tedy vysoce citliv
 ých údajů. Budeme se zabývat tím\, jak je právně řešena ochrana z
 dravotnické dokumentace v digitálním prostředí\, kdo a za jakých pod
 mínek může k takových datům přistoupit a co upravuje zákon o elektr
 onizaci zdravotnictví a nařízení o EHDS.Přijďte se dozvědět\, jak
 á rizika už dnes nepozorovaně pronikají do našeho každodenního živ
 ota — a jak je možné jim čelit. Téma se týká každého\, kdo čte 
 zprávy\, podepisuje dokumenty nebo věří tomu\, co vidí.PROGRAM09:30 
 – 10:00  Registrace10:00 – 10:15  Zahájení akce10:15 – 11:00  V
 yužití blockchainu při vydávání osvědčení o akreditaci – Pavel 
 Nosek\, 1. náměstek ředitele ČIA (Český institut pro akreditaci)11:0
 0 – 12:00  Jak detekovat falešná videa a obrázky generované AI – 
 Jan Čech\, vědecký pracovník\, Fakulta elektrotechnická\, ČVUT12:00 
 – 12:30  Networking & občerstvení12:30 – 13:15  Blockchain: AI –
  Otto Havle\, CEO ELA Blockchain Services s.r.o.13:15 – 13:45  Ochrana 
 zdravotnické dokumentace v digitálním prostředí – Lenka Kaška\, Pf
 izer13:45 – 14:00  EDIH CTU – cesta k digitální transformaci – Da
 vid Pešek\, ČVUT14:00 – 15:00  Diskuze & ukončení akceVstup na akci
  je zdarma\, je však nutné se registrovat nejpozději do 16. června. R
 egistrace\n
URL:https://www.spcr.cz/bezpecny-obsah-v-dobe-generativni-ai-konference
DTSTART:20250618T093000
DTEND:20250618T150000
LOCATION:Svaz průmyslu a dopravy ČR\, Freyova 948/11\, Praha 9 - Vysočan
 y\; Zasedací místnost ve 2. patře
END:VEVENT
END:VCALENDAR
