BEGIN:VCALENDAR
PRODID:-//eluceo/ical//2.0/EN
VERSION:2.0
CALSCALE:GREGORIAN
BEGIN:VEVENT
UID:b9b4da7122467eba016806443908487d
DTSTAMP:20260423T130015Z
SUMMARY: 2025 Taichung International Tea\, Coffee and Bakery Show
DESCRIPTION:Název akce:  2025 Taichung International Tea\, Coffee and Bake
 ry Show\nURL: https://www.spcr.cz/2025-taichung-international-tea-coffee-a
 nd-bakery-show\nPopis: \n\ndovolujeme si Vám předat pozvání na 2025 Ta
 ichung International Tea\, Coffee and Bakery Show\, která se uskuteční 
 ve dnech 11. až 14. července 2025 v mezinárodním výstavním centru v
  Taichung.Výstava je zaměřena na čajové výrobky a příslušenství
 \, kávové výrobky a příslušenství\, pekařské přísady\, výrobky
  a příslušenství\, cateringové vybavení a další potraviny a nápoj
 e.Aktuální informace naleznete na oficiálních webových stránkách ww
 w.tcfb.com.tw/en/.Na podporu účasti na tomto veletrhu jsou nabízeny pob
 ídkové balíčky. Upozorňujeme\, že nabídky platí do vyčerpání fi
 nančního rozpočtu a balíčky jsou poskytovány podle pořadí přijet
 í přihlášky.Pro registraci a podání pobídkové přihlášky je tře
 ba vyplnit přiložený formulář "company profile" a zašlete jej na ema
 ilovou adresu czech@sa.moea.gov.tw nebo cztwec01@sa.moea.org.tw.Na veletrh
 u Vás rádi přivítáme. Pro další informace se obraťte na následuj
 ící kontakt:Michaela Orságová Ekonomické oddělení \n
URL:https://www.spcr.cz/2025-taichung-international-tea-coffee-and-bakery-s
 how
DTSTART:20250711T093900
DTEND:20250714T234500
LOCATION:Taichung
END:VEVENT
END:VCALENDAR
