BEGIN:VCALENDAR
PRODID:-//eluceo/ical//2.0/EN
VERSION:2.0
CALSCALE:GREGORIAN
BEGIN:VEVENT
UID:d2b79c04ce1d4fd3f9b16fd10d9d8e4c
DTSTAMP:20260423T163311Z
SUMMARY:Obcházení sankcí: Jak ho poznat - webinář
DESCRIPTION:Název akce: Obcházení sankcí: Jak ho poznat - webinář\nUR
 L: https://www.spcr.cz/obchazeni-sankci-jak-ho-poznat-webinar\nPopis: \nFi
 nanční analytický úřad v rámci společného TSI projektu Rady Evropy
  a Evropské komise k sankcím zve na další webinář\, tentokrát zamě
 řený na obcházení sankcí v obchodních vztazích. \nPředmětem ško
 lení budou různé taktiky přesunu aktiv a finančních prostředků pro
 střednictvím obchodní činnosti v rozporu se sankcemi uvalenými na Rus
 ko\, způsoby řešení komplikovaných situací zakrývajících obcháze
 ní sankcí s cílem rozlišit mezi „normálními“ a „neobvyklými
 “ obchodními ujednáními. Na konkrétních příkladech budou ukázá
 ny varovné signály (red flags)\, taktiky a typologie nelegálních akté
 rů používané k přesunu aktiv a finančních prostředků prostřednic
 tvím obchodní činnosti spojené s nelegální invazí Ruska na Ukrajinu
 . Podrobný program naleznete níže v sekci Ke stažení. ⇣⇣⇣Semin
 ář se fyzicky odehrává na Maltě. Online bude k dispozici zdarma\, v a
 ngličtině bez tlumočení. Registrace je otevřena do 19. června a poč
 et míst je i v online prostoru omezen. Případné dotazy prosím směř
 ujte na paní Cvetelinu Stoyanovou (cvetelina.stoyanova@coe.int)\, kontakt
 ní osobu za Radu Evropy\, nebo na sankce@fau.mfcr.cz.Odkaz na registraci:
  \n
URL:https://www.spcr.cz/obchazeni-sankci-jak-ho-poznat-webinar
DTSTART:20250626T093000
DTEND:20250626T130000
LOCATION:
END:VEVENT
END:VCALENDAR
