BEGIN:VCALENDAR
PRODID:-//eluceo/ical//2.0/EN
VERSION:2.0
CALSCALE:GREGORIAN
BEGIN:VEVENT
UID:7d63a12cab3bdc59543dccdc1916d681
DTSTAMP:20260423T125335Z
SUMMARY:NATO x U.S. Tech Procurement - webinář
DESCRIPTION:Název akce: NATO x U.S. Tech Procurement - webinář\nURL: htt
 ps://www.spcr.cz/nato-x-us-tech-procurement-webinar\nPopis: \n\nEvery year
  NATO procurement agencies account for over $2 billion in acquisition. Whe
 ther an International Competitive Bid or Commercial off-the-shelf goods an
 d services\, NATO procurement is extremely broad. It will purchase everyth
 ing from containerized kitchens\, shelters\, MRO parts for aircraft and sy
 stems\, ammunition\, helicopters\, UAS\, consulting services and research 
 papers\, engineering\, fuel depots and runways\, coms equipment\, and much
  more.The current geopolitical context provides increased opportunities fo
 r potential vendors. Becoming a preferred vendor is quick and easy. If you
  are a manufacturer\, made in USA\, preferably (no requirement) selling to
  DOD\, please join us on this webinar featuring NATO’s Support and Procu
 rement Agency\, US Commercial Service of US Embassy\, BIS and Industry Ins
 ights form Trellix.Featured SpeakersNATO Support and Procurement AgencyAnn
 e Seguin\, Chief of SectionU.S. Commercial Service\, U.S. Embassy to Belgi
 umJim Curtis\, Commercial Officer\, European UnionErik Hunt\, Sr. Internat
 ional Trade Specialist\, Indianapolis OfficeIra Bel\, Acting Head of Secti
 on and Sr. Commercial Specialist for the office in BrusselsOffice of Defen
 se Cooperation U.S. Embassy to BelgiumBrian J. McNulty\, DoD Civilian Chie
 f\, Multi-National Programs\, Office of Defense CooperationBureau of Indus
 try & Security\, U.S. Department of CommerceLee Ann CarpenterIndustry Insi
 ghtsJohn Fokker\, Head of Threat Intelligence\, TrellixThe webinar has a r
 egistration fee of $25. To sign up\, please create an account on the Inter
 national Trade Administration website. If you have questions about the pro
 gram\, contact Ira.Bel@trade.gov. For questions specifically about the web
 inar\, reach out to Jason.Sproule@trade.gov. \n
URL:https://www.spcr.cz/nato-x-us-tech-procurement-webinar
DTSTART:20250626T160000
DTEND:20250626T183000
LOCATION:
END:VEVENT
END:VCALENDAR
