BEGIN:VCALENDAR
PRODID:-//eluceo/ical//2.0/EN
VERSION:2.0
CALSCALE:GREGORIAN
BEGIN:VEVENT
UID:d5a042ba3cdce22360a4a95138ccf016
DTSTAMP:20260423T130007Z
SUMMARY:5th Innovation Fair - Become a Delegate
DESCRIPTION:Název akce: 5th Innovation Fair - Become a Delegate\nURL: http
 s://www.spcr.cz/5th-innovation-fair-become-delegate\nPopis: \nThe EU-China
  Business Association (EUCBA) is proud to be a supporting organization of 
 the 5th Innovation Fair in Nanjing.\nBuilding on the success of previous e
 ditions\, the 5th Innovation Fair is scheduled to take place from 16-18th 
 September 2025. The fair promotes international business development\, unc
 overs sourcing opportunities\, and provides access to the Chinese market w
 hile allowing for opportunities for representation and distribution of Chi
 nese businesses in Europe. Based on your specific requirements\, EUCBA tea
 m in China will book relevant counterpart meetings for you.This initiative
  is designed for companies and research institutes from Europe looking to 
 develop business activities in China.Industries include\, but are not limi
 ted to:Advanced ManufacturingNew EnergyArtificial IntelligenceLow Altitude
  Flight TechnologyEnvironmental TechnologyFintechPharma & MedtechFood & Be
 verageFashion & Beauty ProductsInnovation Services﻿If your organization 
 operates in any of these sectors and seeks partnerships or market entry in
  China\, this event offers a tailored platform to connect and grow.EUCBA t
 eam in China will arrange targeted B2B meetings with relevant counterparts
  to ensure a valuable and productive experience.Benefits & Cost of Partici
 pationCovered Costs1x Economy Class Roundtrip TicketHotel and meals throug
 hout the eventServices ProvidedMatchmaking Space (Booth)Speaking Opportuni
 tyPersonalized Matchmaking ServiceRegistration Fees per ParticipantStandar
 d Rate: 980 EUR (from 17 May to 17 July)Late Registration: 1280 EUR (from 
 18 July to 18 August)If you are interested in taking part in the Innovatio
 n Fair then email us at: gwenn.sonck@flanders-china.beThe EU-China Busines
 s Association promotes economic and trade relations between China and the 
 European Union. The organisation is managed by the Flanders-China Chamber 
 of Commerce. \n
URL:https://www.spcr.cz/5th-innovation-fair-become-delegate
DTSTART:20250916T000000
DTEND:20250918T235900
LOCATION:Jiangsu\, China
END:VEVENT
END:VCALENDAR
