BEGIN:VCALENDAR
PRODID:-//eluceo/ical//2.0/EN
VERSION:2.0
CALSCALE:GREGORIAN
BEGIN:VEVENT
UID:483e377a2ecb6ce020d2ae8356f5b1da
DTSTAMP:20260420T101301Z
SUMMARY:Setkání k tendru na vybudování systému hromadné dopravy v Zá
 padním Yorkshiru
DESCRIPTION:Název akce: Setkání k tendru na vybudování systému hromad
 né dopravy v Západním Yorkshiru\nURL: https://www.spcr.cz/setkani-k-ten
 dru-na-vybudovani-systemu-hromadne-dopravy-v-zapadnim-yorkshiru\nPopis: \n
 West Yorkshire Combined Authority zve k virtuálnímu setkání zájemce o
  účast v projektu vybudování systému hromadné dopravy ve West Yorksh
 ire.\nWest Yorkshire Combined Authority zve zájemce o účast v projektu 
 vybudování systému hromadné dopravy ve West Yorkshire k virtuálnímu 
 informačnímu setkání. Jedná se o setkání před uvedením tendru na 
 trh.Online přenos se bude konat 15. července\, čas bude ještě upřesn
 ěn\, termín pro registraci je 7. července 2025 do 17:00. Britská vlá
 da poskytla úřadům v oblasti West Yorkshire finanční prostředky ve v
 ýši 2\,1 miliardy GBP (cca 61 miliardy CZK) na vybudování systému hro
 madné dopravy\, který propojí několik měst v oblasti\, včetně Leeds
 u\, Bradfordu\, Wakefieldu\, Huddersfieldu a Halifaxu.  Předpokládané
  datum zahájení prací je plánováno na rok 2028 a zahrnuje tramvajovou
 \, vlakovou a autobusovou dopravu. V první fázi vzniknou 2 tramvajové l
 inky z centra Leedsu (spojující novou nemocnici) do nákupního centra W
 hite Rose a další linku spojující město Bradford s centrem Leedsu. S
 oučástí projektu budou:stavební práce\;dodávky železničních a tra
 mvajových lokomotiv\, kolejových vozidel a souvisejících dílů\;pří
 prava staveniště\;práce na kompletní nebo částečné výstavbě a in
 ženýrské práce\;montážní práce na budovách a dopravní služby (k
 romě přepravy odpadu).Bližší informace: Major funding boost secured 
 for West Yorkshire tramsOznámení o příležitostiPodrobnosti a postup r
 egistraceZáznam setkání bude sdílen se všemi dodavateli\, kteří zar
 egistrovali svůj zájem prostřednictvím výše uvedeného portálu do t
 ermínu pro podání žádostí\, tedy do 7. července 2025.Kontaktní oso
 ba: Darren WoodTelefon: +44 1133481789Email: commercialteam@westyorks-ca.
 gov.ukwww.westyorks-ca.gov.ukWest Yorkshire Combined AuthorityWellington H
 ouse\, 40-50 Wellington StreetLeedsLS1 2DEUnited Kingdom\n
URL:https://www.spcr.cz/setkani-k-tendru-na-vybudovani-systemu-hromadne-dop
 ravy-v-zapadnim-yorkshiru
DTSTART:20250715T000100
DTEND:20250715T235900
LOCATION:
END:VEVENT
END:VCALENDAR
