BEGIN:VCALENDAR
PRODID:-//eluceo/ical//2.0/EN
VERSION:2.0
CALSCALE:GREGORIAN
BEGIN:VEVENT
UID:a1fa169d22ca7ced393a388919df91a5
DTSTAMP:20260423T150422Z
SUMMARY:Kulatý stůl k revizi právního rámce pro klima 
DESCRIPTION:Název akce: Kulatý stůl k revizi právního rámce pro klima
  \nURL: https://www.spcr.cz/kulaty-stul-k-revizi-pravniho-ramce-pro-klima\
 nPopis: \n\nSvaz průmyslu a dopravy ČR si Vás v rámci projektu „Podp
 ora národního\, odvětvového a regionálního sociálního dialogu v Č
 R“ dovoluje pozvat ke kulatému stolu k revizi právního rámce pro kli
 ma.PROGRAMNa začátku července představila Evropská komise oficiální
  návrh na revizi Evropského právního rámce pro klima\, který přich
 ází mj. s návrhem cíle snižování emisí pro rok 2040 na úrovni 90%
  snížení oproti roku 1990.SP ČR dlouhodobě odmítá výši zveřejně
 ného návrhu cíle\, jelikož ho nepovažuje za realistický a ohrozil by
  konkurenceschopnost mnoha odvětví.První pohled na zveřejněná hodnoc
 ení dopadů (již je součástí návrhu) ukazuje\, že průmysl a energe
 tika mají nést podstatnou část dekarbonizace. Rovněž pro sektor dopr
 avy budou dekarbonizační cíle\, i při vysoké míře elektrifikace\, t
 ěžce dosažitelné. Představené nástroje flexibility pro dosažení d
 aného cíle jsou pro český průmysl těžce použitelné. Navíc možno
 st větší flexibility napříč odvětvími\, aby se podpořilo dosažen
 í cílů nákladově efektivním způsobem\, působí vágně a nejednozn
 ačně.Jak by se k návrhu měl postavit průmysl?REGISTRACEPreferujeme fy
 zickou účast.Na jednání se prosím přihlaste prostřednictvím formul
 áře níže nejpozději do 11. července 2025.V případě dotazů se pro
 sím obraťte na Tomáše Kupčihu\, manažera pro energetiku SP ČR:tkup
 ciha@spcr.cz+420 703 154 238\n
URL:https://www.spcr.cz/kulaty-stul-k-revizi-pravniho-ramce-pro-klima
DTSTART:20250715T140000
DTEND:20250715T153000
LOCATION:Svaz průmyslu a dopravy ČR
END:VEVENT
END:VCALENDAR
