BEGIN:VCALENDAR
PRODID:-//eluceo/ical//2.0/EN
VERSION:2.0
CALSCALE:GREGORIAN
BEGIN:VEVENT
UID:50201bb2981300029dc4b11ea4979c90
DTSTAMP:20260423T150422Z
SUMMARY:Česko-italské business fórum
DESCRIPTION:Název akce: Česko-italské business fórum\nURL: https://www.
 spcr.cz/cesko-italske-business-forum-1\nPopis: \n\nItalsko-česká obchodn
 í a průmyslová komora si Vás dovoluje srdečně pozvat na Italsko-čes
 ké Business Fórum\, které se zaměří na aktuální trendy a výzvy v 
 energetickém sektoru.Akce se uskuteční dne 18. září 2025 v prostorá
 ch Parlamentu České republiky. Jedná se o výjimečnou příležitost k
  navázání nových kontaktů a rozvoji spolupráce mezi českými a ital
 skými firmami a institucemi v oblasti energetiky.Datum: 18.9.2025Registra
 ce a welcome coffee: 9:00Business Fórum: 10:00 – 12:45Místo: Parlament
  ČR\, Sněmovní 1\, 118 00 Praha 1Dress code: Business Formal V přípa
 dě zájmu prosím potvrďte Vaši účast přes tento FORMULÁŘ\, a to n
 ejpozději do 8.9.2025.Účast je po registraci zdarma. Registrace nutná\
 , počet míst je omezen.\n
URL:https://www.spcr.cz/cesko-italske-business-forum-1
DTSTART:20250918T100000
DTEND:20250918T124500
LOCATION:Praha
END:VEVENT
END:VCALENDAR
