BEGIN:VCALENDAR
PRODID:-//eluceo/ical//2.0/EN
VERSION:2.0
CALSCALE:GREGORIAN
BEGIN:VEVENT
UID:7129684ed3e22dab12682520562e70c0
DTSTAMP:20260423T130015Z
SUMMARY:8th Bhutan International Trade Fair (BITF) 2025
DESCRIPTION:Název akce: 8th Bhutan International Trade Fair (BITF) 2025\nU
 RL: https://www.spcr.cz/8th-bhutan-international-trade-fair-bitf-2025\nPop
 is: \nBhutan Chamber of Commerce and Industry zve české firmy\, instituc
 e a organizace k účasti na 8th Bhutan International Trade Fair (BITF) 20
 25\, který se uskuteční ve dnech 10. až 14. září  2025 v Bhutánu.
 \nTato vlajková akce je navržena tak\, aby sloužila jako dynamická pla
 tforma pro podporu regionálního a mezinárodního obchodu\, investic a o
 bchodních partnerství napříč různými odvětvími.Více informací s
 e dozvíte v přiloženém letáku.V případě dotazů a registrací se o
 bracejte prosím přímo na Bhutan Chamber of Commerce and Industry:Tsheri
 ng Lhaden (Mrs.)Business Support Department (BSD)Bhutan Chamber of Commerc
 e and Industry (BCCI)P.O.Box No. 147Tel.: +975 (02) 324254 / 322742URL: ww
 w.bcci.org.bt Ke staženíhttps://8th Bhutan International Fair Trade \n
URL:https://www.spcr.cz/8th-bhutan-international-trade-fair-bitf-2025
DTSTART:20250910T080000
DTEND:20250914T170000
LOCATION:Bhutan
END:VEVENT
END:VCALENDAR
