BEGIN:VCALENDAR
PRODID:-//eluceo/ical//2.0/EN
VERSION:2.0
CALSCALE:GREGORIAN
BEGIN:VEVENT
UID:33195b6e2a6c9300f6fb1c91b0f458bf
DTSTAMP:20260423T173745Z
SUMMARY:Seminář k 8. ročníku China International Import Expo
DESCRIPTION:Název akce: Seminář k 8. ročníku China International Impor
 t Expo\nURL: https://www.spcr.cz/seminar-k-8-rocniku-china-international-i
 mport-expo\nPopis: \nČínské velvyslanectví v ČR vás zve na informač
 ní seminář k 8. ročníku International Import Expo (CIIE)\, který se 
 uskuteční 5.–10. listopadu 2025 v Šanghaji.\nNejvětší čínský im
 portní veletrh každoročně přitahuje na 150 000 domácích i zahranič
 ních nákupčích a představuje zajímavou příležitost pro české fi
 rmy k posílení viditelnosti svých produktů nejen na čínském trhu\, 
 ale i mezi globálními partnery.Seminář se koná v úterý 5. srpna 202
 5 v Praze a pořádá ho Velvyslanectví Čínské lidové republiky spole
 čně s Úřadem CIIE a pražskou pobočkou Industrial and Commercial Bank
  of China. Svaz průmyslu a dopravy ČR se k nim připojil jako spoluorgan
 izátor akce. Účast na akci přislíbil viceprezident SP ČR František 
 Chaloupecký.V prostorách Konferenčního centra City budou představeny 
 možnosti účasti na veletrhu CIIE 2025\, včetně podmínek registrace\,
  podpory pro vystavovatele a zkušeností českých firem z předchozích 
 ročníků. Vítány jsou jak firmy členské\, tak nečlenské – účas
 t je bezplatná\, avšak s ohledem na omezenou kapacitu doporučujeme vča
 snou registraci.Program:9:30-10:00 Registration10:00-10:10 Opening video f
 or China International Import Expo10:10-10:20 Opening Remarks - The H.E. F
 eng Biao Ambassador in Chinese embassy10:20-10:30 Opening Remarks - Direct
 or Hlavaty of the Department of Non-European Countries\, MPO10:30-10:40 Op
 ening Remarks - Vice president František Chaloupecký of SP ČR10:40-11:1
 0 Introduction to the China International Import Expo11:10-11:20 Introduct
 ion the services of ICBC for the CIIE11:20-11:30 Introduction to the China
 -Europe Business Council11:30-13:00 Buffet Lunch & NetworkingRegistrace pr
 obíhá e-mailem: Kontaktní osoba: (Mr.) Li Boyan\, cz@mofcom.gov.cnEcon
 omic & Commercial Office of the Chinese Embassy in the Czech RepublicPelle
 ova 18\, 160 00 Praha 6 – BubenečMobil: +420 778 793 969\n
URL:https://www.spcr.cz/seminar-k-8-rocniku-china-international-import-expo
DTSTART:20250805T093000
DTEND:20250805T130000
LOCATION:Konferenční centrum City\, Na Strži 1702/65\, 140 00 Praha 4 
 – Nusle
END:VEVENT
END:VCALENDAR
