BEGIN:VCALENDAR
PRODID:-//eluceo/ical//2.0/EN
VERSION:2.0
CALSCALE:GREGORIAN
BEGIN:VEVENT
UID:6f8f493ac961094e880045836f8586c5
DTSTAMP:20260423T124932Z
SUMMARY:Smart Industry 2025 - konference v Pardubicích
DESCRIPTION:Název akce: Smart Industry 2025 - konference v Pardubicích\nU
 RL: https://www.spcr.cz/smart-industry-2025-konference-v-pardubicich\nPopi
 s: \nVýrobní konference plná inovací. Získejte přehled o nejnověj
 ších trendech v oboru.\nZískejte přehled o nejnovějších trendech 
 v oblasti výroby\, servisu a údržby na konferenci Smart Industry 2025. 
 Svaz průmyslu a dopravy ČR jí poskytnul záštitu.Načerpejte inspiraci
  na přednáškách uznávaných expertů. Poslechněte si\, jak řeší n
 ové výzvy přední firmy v oboru\, a zapojte se do panelových diskuz
 í s odborníky.Na akci potkáte více než 300 profesionálů\, kteří 
 řeší stejné výzvy jako vy. V průběhu dvoudenního programu budete m
 ít spoustu času společně probrat své zkušenosti. Rozšíříte si ta
 k obzory i síť kontaktů.Letošní ročník se zaměří na témata Výr
 oby 4.0 a AI:Využití AI ve výrobě a servisuŘízení změn ve firměPr
 ůmysl 4.0Mezigenerační přenos know-howDigitalizace procesů...a mnoho 
 dalšíhoPodrobnosti a vstupenky\n
URL:https://www.spcr.cz/smart-industry-2025-konference-v-pardubicich
DTSTART:20251023T000100
DTEND:20251024T235900
LOCATION:Palác Pardubice
END:VEVENT
END:VCALENDAR
