BEGIN:VCALENDAR
PRODID:-//eluceo/ical//2.0/EN
VERSION:2.0
CALSCALE:GREGORIAN
BEGIN:VEVENT
UID:eb9ecf6099b2c5c7d652f8d827730b9c
DTSTAMP:20260423T130528Z
SUMMARY:Mezinárodní železniční konference v Nigérii 15.–16. září
  2025
DESCRIPTION:Název akce: Mezinárodní železniční konference v Nigérii 
 15.–16. září 2025\nURL: https://www.spcr.cz/mezinarodni-zeleznicni-ko
 nference-v-nigerii-15-16-zari-2025\nPopis: \n\nZveme Vás k účasti na 2
 . mezinárodní železniční konferenci a veletrhu\, která se uskutečn
 í ve dnech 15.–16. září 2025 v Abudži\, pod názvem „Opportunit
 ies and Challenges in Railway Development in Africa: A Call for Developmen
 t“. Cílem konference je propojit klíčové aktéry železničního se
 ktoru z Afriky i zahraničí\, včetně ministrů dopravy\, expertů\, inv
 estorů a zástupců průmyslu za účelem sdílení zkušeností a hledá
 ní řešení pro rozvoj železniční infrastruktury v afrických zemích
 . Více informací a možnost registrace najdete na webových stránkách
  www.internationalrailwaysconference.ng.\n
URL:https://www.spcr.cz/mezinarodni-zeleznicni-konference-v-nigerii-15-16-z
 ari-2025
DTSTART:20250915T090000
DTEND:20250916T180000
LOCATION:Abuja
END:VEVENT
END:VCALENDAR
