BEGIN:VCALENDAR
PRODID:-//eluceo/ical//2.0/EN
VERSION:2.0
CALSCALE:GREGORIAN
BEGIN:VEVENT
UID:ad9fd8f370b38012cfd9ef660eab5304
DTSTAMP:20260423T193800Z
SUMMARY:Inspektorát práce a zaměstnavatelé - kulatý stůl - Jihočesk
 ý kraj a Vysočina 
DESCRIPTION:Název akce: Inspektorát práce a zaměstnavatelé - kulatý s
 tůl - Jihočeský kraj a Vysočina \nURL: https://www.spcr.cz/inspektorat
 -prace-zamestnavatele-kulaty-stul-jihocesky-kraj-vysocina\nPopis: \n\nSvaz
  průmyslu a dopravy ČR ve spolupráci s Oblastním inspektorátem prác
 e pro Jihočeský kraj a Vysočinu si vás v rámci projektu „Podpora n
 árodního\, odvětvového a regionálního sociálního dialogu v ČR“
  dovolují pozvat ke kulatému stoluPORADNÍ SBOR OIP JIHOČESKÉHO KRAJE
  – CO VÁS ZAJÍMÁSetkání zaměstnavatelů s odborníky Oblastního i
 nspektorátu práce pro Jihočeský kraj a Vysočinu se koná za účelem 
 sdílení poznatků a zkušeností\, osvěty a prevence. Hlavními tématy
  setkání budou novinky v legislativě\, pracovněprávní problematika a
  zaměstnávání cizinců. Na setkání je možné vznést dotazy\, pří
 padně otevřít specifický problém z prostředí vašich firem a získa
 t tak cenné rady od odborníků. PROGRAM novinky v legislativě - Novel
 izace Zákoníku práce\, Novelizace zákona o zaměstnanostiproblematika 
 zaměstnanosti – nelegální zaměstnávání\, zastřené zprostředkov
 ání zaměstnávánípracovněprávní problematika – agenturní zaměs
 tnávání \, nerovné zacházení\, nerovné odměňování\, docházkov
 é bonusy PŘEDNÁŠEJÍCÍ Mgr. Lenka Šmídová\, vedoucí oddělení 
 pracovněprávních vztahů Bc. et. Bc. Jaroslava Bieberle\, DiS.\, vedou
 cí oddělení zaměstnanosti pro Jihočeský kraj ČASOVÝ HARMONOGRAM 
 08:45 – 09:00 Registrace účastníků\, ranní káva09:00 – 10:30 Úv
 od\, 1. informační blok10:30 – 10:45 Coffee break10:45 – 12:30 2. in
 formační blok\, sdílení zkušeností a diskuse REGISTRACE Na akci se
 \, prosím\, registrujte zde do 10. září 2025. V případě dotazů se
  prosím obraťte na regionální kancelář Svazu průmyslu a dopravy ČR
  pro Plzeňský a Jihočeský kraj\, Bc. Kamilu Babuškovou\, e-mail: kbab
 uskova@spcr.cz\, mobil: 733 643 518. \n
URL:https://www.spcr.cz/inspektorat-prace-zamestnavatele-kulaty-stul-jihoce
 sky-kraj-vysocina
DTSTART:20250918T090000
DTEND:20250918T123000
LOCATION:Jihočeský vědeckotechnický park\, Lipová 9\, 370 05 České B
 udějovice
END:VEVENT
END:VCALENDAR
