BEGIN:VCALENDAR
PRODID:-//eluceo/ical//2.0/EN
VERSION:2.0
CALSCALE:GREGORIAN
BEGIN:VEVENT
UID:9b36b12d580382424704eeb47a954e37
DTSTAMP:20260423T124800Z
SUMMARY:Moldova Business Week 2025
DESCRIPTION:Název akce: Moldova Business Week 2025\nURL: https://www.spcr.
 cz/moldova-business-week-2025\nPopis: \n\nDovolujeme si Vás pozvat na Mo
 ldova Business Week 2025\, nejvýznamnější ekonomické fórum Moldavska
 \, které se uskuteční 15.–19. září 2025 v Kišiněvě pod heslem
  „Moldavsko je otevřené byznysu“. Letošní jubilejní 10. ročník
  představí ambiciózní kroky země směrem k udržitelnému průmyslov
 ému rozvoji a podpoře investic prostřednictvím nového Národního p
 rogramu rozvoje průmyslu. Klíčovými tématy budou také moderní IT s
 ektor\, zapojení Moldavska do poválečné obnovy Ukrajiny\, rozvoj infra
 struktury a energetické transformace.  Akce nabídne prostor pro setká
 ní investorů\, podnikatelů\, tvůrců politik i lídrů z průmyslu\, 
 a je skvělou příležitostí k navázání nových partnerství a objevo
 vání investičních příležitostí v rychle se vyvíjejícím moldavsk
 ém hospodářském prostředí.  Pro registraci a bližší informace o
  Moldova Business Week 2025 doporučujeme navštívit oficiální web akc
 e.  Zároveň bychom rádi informovali české firmy o možnosti zapoje
 ní do tendrů na výstavbu skládek a nakládání s pevným odpadem v Mo
 ldavsku\, které nyní vyhlašuje EBRD. Více informací k tendrům je k
  nalezení na webu BKUA.\n
URL:https://www.spcr.cz/moldova-business-week-2025
DTSTART:20250915T090000
DTEND:20250919T180000
LOCATION:Kišiněv
END:VEVENT
END:VCALENDAR
