BEGIN:VCALENDAR
PRODID:-//eluceo/ical//2.0/EN
VERSION:2.0
CALSCALE:GREGORIAN
BEGIN:VEVENT
UID:c047fb4e1bd9d93b2a8864c940acab62
DTSTAMP:20260423T125335Z
SUMMARY:CEBRE navigátor - cesta do Bruselu
DESCRIPTION:Název akce: CEBRE navigátor - cesta do Bruselu\nURL: https://
 www.spcr.cz/cebre-navigator-cesta-do-bruselu\nPopis: \nCEBRE Navigátor p
 ředstavuje příležitost pro české firmy\, jak se zorientovat v evrops
 kém prostředí\, získat vhled do fungování institucí EU a pochopit p
 roces tvorby pravidel\, která ovlivňují jejich podnikání. \nAgentura
  CzechTrade zve české firmy na jedinečnou podnikatelskou misi do Belgie
 . Mise pomůže českým exportérům zorientovat se v evropském prostře
 dí\, nahlédnout do institucí EU a pochopit proces tvorby pravidel\, kte
 ré ovlivňují naše podnikaní. CEBRE Navigátor se zaměřuje na sektor
  energetiky.Program je navržen tak\, aby firmám poskytl nejen teoretick
 é informace\, ale především praktické nástroje a kontakty\, díky ni
 mž se mohou aktivně zapojit do evropských agend a účinněji hájit sv
 é zájmy. Do přípravy obsahu cesty se zapojil také Svaz průmyslu a d
 opravy. První mise se tematicky zaměřuje na energetiku – strategicko
 u oblast s přímým dopadem na konkurenceschopnost firem. Účastníci z
 ískají přehled o legislativním rámci EU\, aktuálních dotačních n
 ástrojích a průmyslové politice v oblasti energetiky. Čekají je setk
 ání s europoslanci\, experty z Evropské komise – konkrétně z Gener
 álního ředitelství pro energetiku (DG ENER)\, zástupci Stálého zast
 oupení ČR při EU\, relevantními stakeholdery\, Hospodářskou komorou 
 i zástupci think-tanků.Mise firmám poskytne cenné informace o připrav
 ované legislativě\, nabídne možnost diskutovat aktuální výzvy a př
 íležitosti v rámci evropské debaty a pomůže navázat kontakty\, kter
 é mohou být klíčové pro jejich další rozvoj i efektivní prosazová
 ní zájmů na evropské úrovni.Co od mise můžete očekávat?Získáte 
 přehled o legislativním rámci EU\, aktuálních dotačních nástrojíc
 h a průmyslové politice v oblasti energetiky.Setkejte s europoslanci\, e
 xperty z Evropské komise – konkrétně z Generálního ředitelství pr
 o energetiku (DG ENER)\, zástupci Stálého zastoupení ČR při EU\, rel
 evantními stakeholdery\, Hospodářskou komorou i zástupci think-tanků.
 Dozvíte se\, jak využít evropské fondy a programy v oblasti energetiky
  a průmyslu.Budete mít prostor aktivně diskutovat\, ptát se a sdílet 
 své zkušenosti – nejde o pasivní seminář\, ale interaktivní misi p
 ro firmy.Oborové zaměření miseenergetikaprůmysl a výrobatechnologie 
 a inovace (OZE\, smart energy)stavebnictví a real estatedoprava a elektro
 mobilitaporadenské firmyměstské podnikyoborové svazyvýzkumné institu
 ceSvaz průmyslu a dopravyTéma: Jak se český průmysl prosazuje v Bruse
 lu» Jak zde Svaz průmyslu hájí zájmy svých členů» Jaký je přín
 os jeho spolupráce v rámci BusinessEurope a s partnerskými organizacemi
  napříč Evropou» Proč je důležité zapojovat se do legislativního 
 procesu i na evropské úrovniProvází: Jana Hartman Radová» Stálá z
 ástupkyně Svazu průmyslu v Bruselu - na půdě evropské asociace zamě
 stnavatelských svazů BusinessEurope a Evropského hospodářského a soc
 iálního výboruKdy: středa 24.9. dopoledneCo nabízí CzechTrade česk
 ým firmám\, které se účastní?osobní podporu přímo v Bruseluzprost
 ředkování kontaktů s klíčovými aktérypraktické poradenství k fun
 gování evropských institucí a legislativních procesů Cena za osobu1
 0 000 Kč bez DPHZajímají vás bližší informace k misi CEBRE navigát
 or?Podrobnosti najdete na webu\, v pozvánce v sekci Ke stažení ⇣⇣
 ⇣\, případně další dotazy zodpoví gestor cesty. Chcete se účast
 nit této mise?Zašlete prosím přihlášku gestorovi akce do 23. 8. 2025
 : Martin RossbachCzechTradeAgentura CzechTradeŠtěpánská 15\, 120 00 P
 raha 2tel.: +420224907571mob.: +420602513120e-mail: martin.rossbach@czecht
 rade.cz  \n
URL:https://www.spcr.cz/cebre-navigator-cesta-do-bruselu
DTSTART:20250922T000000
DTEND:20250924T000000
LOCATION:Stálé zastoupení ČR při EU\, Brusel\, Belgie
END:VEVENT
END:VCALENDAR
