BEGIN:VCALENDAR
PRODID:-//eluceo/ical//2.0/EN
VERSION:2.0
CALSCALE:GREGORIAN
BEGIN:VEVENT
UID:bdcce5e93c226726609350af710b70fa
DTSTAMP:20260423T125837Z
SUMMARY:Businessové setkání - Trade Opportunities in Indonesia
DESCRIPTION:Název akce: Businessové setkání - Trade Opportunities in In
 donesia\nURL: https://www.spcr.cz/businessove-setkani-trade-opportunities-
 indonesia\nPopis: \nDovolujeme si Vám předat pozvání na businessové s
 etkání Trade Opportunities in Indonesia\, které se zaměří na obchodn
 í příležitosti mezi Indonésií a Českou republikou.Akci pořádá Ve
 lvyslanectví Indonéské republiky a jejím cílem je podpořit vzájemno
 u spolupráci a rozvoj obchodních vztahů mezi oběma zeměmi. Během set
 kání budou představeny možnosti obchodní spolupráce v různých sekt
 orech a účastníci budou mít příležitost navázat nové kontakty s i
 ndonéskými partnery. Registrovat se můžete níže přes QR kód.\n\n
URL:https://www.spcr.cz/businessove-setkani-trade-opportunities-indonesia
DTSTART:20250827T100000
DTEND:20250827T120000
LOCATION:Hotel Botanique\, Praha
END:VEVENT
END:VCALENDAR
