BEGIN:VCALENDAR
PRODID:-//eluceo/ical//2.0/EN
VERSION:2.0
CALSCALE:GREGORIAN
BEGIN:VEVENT
UID:26f8d6ca0d0c53ad30da57298bb71d66
DTSTAMP:20260423T162828Z
SUMMARY:Iraq Expo for Construction and Building
DESCRIPTION:Název akce: Iraq Expo for Construction and Building\nURL: http
 s://www.spcr.cz/iraq-expo-construction-and-building\nPopis: \n Dovolujeme
  si Vás informovat\, že ve dnech 8.–11. září 2025 se na výstavišt
 i v Bagdádu uskuteční mezinárodní veletrh Iraq Expo for Construction 
 and Building. \nTuto akci pořádá společnost Pyramids International Gr
 oup for Exhibitions and Conferences.Cílem veletrhu je podpořit mezináro
 dní spolupráci v oblastech výstavby\, rekonstrukce\, infrastruktury a s
 ouvisejících technologií. Veletrh představuje významnou příležitos
 t pro české firmy a příslušné instituce k navázání kontaktů a ro
 zvoji partnerství s iráckými a regionálními subjekty.Velvyslanectví 
 Irácké republiky v Praze si dovoluje pozvat české podniky k účasti n
 a této události. Pro více informací o veletrhu a možnostech účasti
  prosím kontaktujte přímo organizátora na následující e-mailové ad
 rese: iraq@pyramidsfaireg.com MPO neplánuje oficiální účast na akci
 .\n
URL:https://www.spcr.cz/iraq-expo-construction-and-building
DTSTART:20250908T000000
DTEND:20250911T235900
LOCATION:Baghdad International Fair
END:VEVENT
END:VCALENDAR
