BEGIN:VCALENDAR
PRODID:-//eluceo/ical//2.0/EN
VERSION:2.0
CALSCALE:GREGORIAN
BEGIN:VEVENT
UID:5b9b855ab598e38b1539e7c456aa511c
DTSTAMP:20260423T125643Z
SUMMARY:Defence Tech Valley 2025 - investiční summit
DESCRIPTION:Název akce: Defence Tech Valley 2025 - investiční summit\nUR
 L: https://www.spcr.cz/defence-tech-valley-2025-investicni-summit\nPopis: 
 \n\nUkrajinský obranně-technologický klastr Brave1 zve k účasti na me
 zinárodním investičním summitu Defence Tech Valley 2025\, který se us
 kuteční 16.–17. září 2025 ve Lvově.Událost spolupořádaná Ukraj
 inským ministerstvem pro digitální transformaci má ambici stát se sv
 ětově největším summitem zaměřeným na vojenské a dvojí využití
  technologií.Co je cílem této akce?Summit má propojit více než 5 0
 00 účastníků – investorů\, lídrů obranného průmyslu\, technolog
 ických inovátorů i vojenských uživatelů – s cílem představit a p
 odpořit inovace\, které vznikají přímo „na bojišti“ a mají skut
 ečný dopad na moderní válčení.Proč se zúčastnit?Získáte jedine
 čný přístup k technologickým řešením\, která již fungují v bojo
 vých podmínkách – například nové protidronové náboje pro pěchot
 u\, schopné sestřelit drony pomocí konvenčních pušek.Budete u prezen
 tace v rámci prestižní soutěže Battle Proven\, kde startupy ve třech
  kategoriích – Trail Blazers\, Gamechangers a Power Players – předst
 aví své řešení před předními globálními investory.Tato platforma
  nabízí nejen inspiraci\, ale také nejpřímější cestu k investicím
 \, partnerství a budování strategických sítí v oblasti obranných in
 ovací.Koho zde můžete potkat?Mezinárodní i ukrajinské investory\, kt
 eří hledají reálné a rychle použitelné řešení.Vývojáře a zakl
 adatele ukrajinských startupů\, mnohdy s reálnými bojem prověřenými
  inovacemi.Vysoké státní představitele\, zástupce ozbrojených slože
 k i klíčových partnerů v oblasti obranných technologií.Další podro
 bnosti včetně možností registrace a nákupu vstupenek naleznete zde. 
 \n
URL:https://www.spcr.cz/defence-tech-valley-2025-investicni-summit
DTSTART:20250916T000100
DTEND:20250917T235900
LOCATION:Lvov\, Ukrajina
END:VEVENT
END:VCALENDAR
