BEGIN:VCALENDAR
PRODID:-//eluceo/ical//2.0/EN
VERSION:2.0
CALSCALE:GREGORIAN
BEGIN:VEVENT
UID:322cb8f65d9bd57a02bb8c57c2c7781b
DTSTAMP:20260423T162828Z
SUMMARY:Investice v Černé Hoře - konference
DESCRIPTION:Název akce: Investice v Černé Hoře - konference\nURL: https
 ://www.spcr.cz/investice-v-cerne-hore-konference\nPopis: \n\nZastoupení E
 U v Černé Hoře zve k účasti na high-level investiční konferenci Sma
 rt Growth\, Green Future: Accelerating Investment in Montenegro\, která s
 e uskuteční 14.–15. října 2025 v hotelu The Chedi\, Luštica Bay\, 
 Černá Hora.Cíl konferenceAkce je zaměřena na podporu zelených a udr
 žitelných investic s vysokou přidanou hodnotou do klíčových odvětv
 í\, jako jsou:obnovitelné zdroje energie\,agrobyznys\,cestovní ruch\,do
 prava\,informační technologie.Konference zároveň přispívá k procesu
  přistoupení Černé Hory do EU a k posílení její role jako regionál
 ního centra pro zelené a digitální investice.Kdo se zúčastníOčeká
 vá se účast premiéra Černé Hory\, vysokých představitelů Evropsk
 é komise\, lídrů z mezinárodních organizací a předních evropských
  firem. Společně budou diskutovat investiční příležitosti\, regulat
 orní reformy a partnerství v souladu s evropskou Zelenou dohodou a cíli
  udržitelného rozvoje.Proč se zúčastnitPřímé propojení s klíčov
 ými partnery a autoritami v Černé HořeMožnost prozkoumat konkrétní 
 investiční příležitosti na rychle rostoucím trhuPříležitost získ
 at strategickou pozici na trhu podporovaném evropskými i mezinárodními
  institucemiFormulář pro vyjádření zájmu o účast naleznete zde.Pro
  více informací kontaktujte:Mr. Yngve EngstroemHead of Cooperationyngve.
 engstroem@eeas.europa.eu \n
URL:https://www.spcr.cz/investice-v-cerne-hore-konference
DTSTART:20251014T000100
DTEND:20251015T235900
LOCATION:hotel The Chedi\, Luštica Bay\, Černá Hora
END:VEVENT
END:VCALENDAR
