BEGIN:VCALENDAR
PRODID:-//eluceo/ical//2.0/EN
VERSION:2.0
CALSCALE:GREGORIAN
BEGIN:VEVENT
UID:d9c7a5013fb35417e7c3e5914f16ed2a
DTSTAMP:20260423T173322Z
SUMMARY:IT Arena 2025 - konference na Ukrajině
DESCRIPTION:Název akce: IT Arena 2025 - konference na Ukrajině\nURL: http
 s://www.spcr.cz/it-arena-2025-konference-na-ukrajine\nPopis: \nSdružení 
 ukrajinských technologických firem zve k účasti na mezinárodní techn
 ologické konferenci IT Arena 2025\, která se uskuteční 26.–28. zář
 í 2025 ve Lvově na Ukrajině\, v moderním prostředí Arena Lviv Stadiu
 m.\nIT Arena patří k největším a nejvlivnějším technologickým ud
 álostem ve východní Evropě. Akce propojuje technologické inovace\, st
 artupy\, investory a korporátní lídry z celého světa – s cílem pod
 pořit růst technologických ekosystémů a konkrétní obchodní příle
 žitosti napříč obory.Cíl konferenceCílem IT Arena 2025 je akcelerova
 t spolupráci mezi technologickými startupy\, investory a firmami napří
 č sektory jako jsou:informační a komunikační technologie\,produktový
  vývoj\,obranné inovace\,digitální transformace a umělá inteligence.
 Konference zároveň podporuje rozvoj inovačního prostředí v regionu a
  přináší konkrétní příležitosti pro investice\, expanzi a naváz
 ání mezinárodních partnerství.Proč se zúčastnit?Získáte přístu
 p k nejaktuálnějším trendům v technologiích a produktech napříč o
 dvětvími.Propojíte se s více než 6 000 účastníky – od startupo
 vých zakladatelů přes product managery až po korporátní lídry a zá
 stupce obranného sektoru.IT Arena nabízí 5 tematicky zaměřených scé
 n – Business\, Tech\, Product\, Defense a Startup – a špičkový prog
 ram přizpůsobený různým profesním profilům.V rámci programu probě
 hne i Startup Competition\, největší soutěž svého druhu na Ukrajině
 \, s finančními cenami v hodnotě $60 000 a možností investic až $1
 2\,5 milionu.Koho zde můžete potkat?Zakladatele a týmy desítek meziná
 rodních startupůInvestory a zástupce fondů hledající nové přílež
 itosti v EvropěProduktové experty\, inženýry a IT ředitele s mezinár
 odním přesahemZástupce obranného průmyslu a státní správy se zájm
 em o technologie s dvojím využitímVíce informací\, vstupenky a přihl
 ášku do Startup Competition najdete na stránkách IT Areny.  \n
URL:https://www.spcr.cz/it-arena-2025-konference-na-ukrajine
DTSTART:20250926T080100
DTEND:20250928T235900
LOCATION:Arena Lviv Stadium
END:VEVENT
END:VCALENDAR
