BEGIN:VCALENDAR
PRODID:-//eluceo/ical//2.0/EN
VERSION:2.0
CALSCALE:GREGORIAN
BEGIN:VEVENT
UID:2dd75ac8fceb287868047ab95ea50ca5
DTSTAMP:20260423T145950Z
SUMMARY:Fotovoltaika a akumulace - konference
DESCRIPTION:Název akce: Fotovoltaika a akumulace - konference\nURL: https:
 //www.spcr.cz/fotovoltaika-akumulace-konference\nPopis: \n\nSpolečnost VI
 DA conference zve na konferenci FVE a akumulace v praxi\, která se odehra
 je 11. září 2025 a bude se věnovat klíčovým tématům současné i 
 budoucí energetiky. Akce je určena zástupcům firem\, municipalit\, st
 átní správy\, provozovatelům distribučních sítí\, dodavatelům ře
 šení\, investorům i odborné veřejnosti.Letošní ročník konference 
 se zaměří na rozvoj fotovoltaiky a akumulace v Česku – aktuální le
 gislativu\, technologické možnosti i praktické zkušenosti z projektů.
  Součástí programu budou i příklady dobré praxe a prostor pro diskuz
 i se zástupci státní správy i oboru.Témata konference:Možnosti rozvo
 je FVE: potenciál a bariéryLegislativní rámec a povolovací procesyLEX
  OZE III – prováděcí legislativaSdílení elektřiny: první zkušeno
 sti z praxeBezpečnost provozu FVE a akumulaceDotační programy a možnos
 ti financováníProjekty FVE a akumulace v reálném provozuPotvrzení ře
 čníci:František Chaloupecký\, viceprezident Svazu průmyslu a dopravyJ
 an Fousek\, Asociace AKU-BAT CZJan Krčmář\, Solární asociaceAlexandr 
 Černý\, ERÚLibor Kolář\, EG.D\, a.s.Ondřej Žídek\, Sunnywatt Group
 \, a.s.Petr Svoboda\, Photomate\, s.r.o.Tomáš Švagerka\, DENSO Manufact
 uring Czech\, s.r.o.Anna Vaverová\, ENERKOM Krnovsko z.ú.Další informa
 ce včetně vstupenek a registrace: www.vidacon.cz\n
URL:https://www.spcr.cz/fotovoltaika-akumulace-konference
DTSTART:20250911T080000
DTEND:20250911T170000
LOCATION:hotel Artemis\, Praha
END:VEVENT
END:VCALENDAR
