BEGIN:VCALENDAR
PRODID:-//eluceo/ical//2.0/EN
VERSION:2.0
CALSCALE:GREGORIAN
BEGIN:VEVENT
UID:ae71ed2da2a1398ac478755c4074c262
DTSTAMP:20260423T125212Z
SUMMARY:Tunisko: A Chocolate and Sweets Exhibition 
DESCRIPTION:Název akce: Tunisko: A Chocolate and Sweets Exhibition \nURL: 
 https://www.spcr.cz/tunisko-chocolate-and-sweets-exhibition\nPopis: \n\nVe
 letrh čokolády a cukrovinek je organizován IFE-Tunisia (International F
 airs & Exhibitions Tunisia) ve spolupráci s UTICA (Tunisian Union of Indu
 stry\, Commerce and Crafts). 7. ročník této gurmánské akce se bude k
 onat v Tunisku v listopadu 2025 a je určen mimo široké veřejnosti pro 
 odborníky z oboru potravinářství. Cílem akce je představit ekonomic
 ké příležitosti\, podpořit spolupráci a posílit obchodní partnerst
 ví mezi firmami a podnikateli působícími v těchto oborech v Africe a 
 Evropě.Více informací naleznete na tomto odkazu. \n
URL:https://www.spcr.cz/tunisko-chocolate-and-sweets-exhibition
DTSTART:20251120T000000
DTEND:20251122T000000
LOCATION:UTICA-Tunis
END:VEVENT
END:VCALENDAR
