BEGIN:VCALENDAR
PRODID:-//eluceo/ical//2.0/EN
VERSION:2.0
CALSCALE:GREGORIAN
BEGIN:VEVENT
UID:9e730a235d40d27b2714fa3dcf9bef17
DTSTAMP:20260423T173430Z
SUMMARY:Tunisko: Africa Food Exhibition
DESCRIPTION:Název akce: Tunisko: Africa Food Exhibition\nURL: https://www.
 spcr.cz/tunisko-africa-food-exhibition\nPopis: \n\n"Africa Food" je jední
 m z prvních veletrhů v Africe věnovaných potravinářskému a nápojov
 ému sektoru. Jedná se o akci\, která trvá 3 dny a jejím cílem je spo
 jit všechny hráče ve světě zemědělsko-potravinářského průmyslu.
  "Africa Food" je fyzická a virtuální platforma pro mezinárodní setk
 ání mezi mezinárodními výrobci potravin a nápojů\, kteří chtějí
  zvýšit svou přítomnost u hlavních odběratelů v Tunisku.Dodavatelé
  z místních\, regionálních a globálních trhů představí jedinečn
 ý a rozmanitý výběr potravinářských výrobků.Akce je křižovatkou
  pro výměnu zkušeností a networkingovou platformou určenou všem úč
 astníkům k dosažení jejich obchodních cílů.V posledních letech uč
 inila Africká unie ze zemědělského sektoru jeden z hlavních pilířů
  Nového partnerství pro Afriku. Africký kontinent je úrodnou půdou pr
 o zemědělství a rybolov. Do roku 2030 bude domovem 20 % světové popul
 ace\, což znamená\, že trh s potravinami má potenciál se do 10 let zt
 rojnásobit a postaví se do pozice významného hráče na globálním tr
 hu. Více informací k dispozici na tomto odkaze.    \n
URL:https://www.spcr.cz/tunisko-africa-food-exhibition
DTSTART:20251211T000000
DTEND:20251213T000000
LOCATION:UTICA-Tunis
END:VEVENT
END:VCALENDAR
