BEGIN:VCALENDAR
PRODID:-//eluceo/ical//2.0/EN
VERSION:2.0
CALSCALE:GREGORIAN
BEGIN:VEVENT
UID:53f35dd1bf7d669f7d8468798ea0d992
DTSTAMP:20260423T145940Z
SUMMARY:Mezinárodní obchodní a investiční fórum v Arménii
DESCRIPTION:Název akce: Mezinárodní obchodní a investiční fórum v Ar
 ménii\nURL: https://www.spcr.cz/mezinarodni-obchodni-investicni-forum-v-a
 rmenii\nPopis: \nJménem Investiční rady EBRD v Arménii si vás dovoluj
 eme pozvat na Mezinárodní obchodní a investiční fórum ITIF 2025\, kt
 eré se koná od 16. do 18. října 2025 v Jerevanu.\nITIF 2025 je jedine
 čná příležitost pro investory a distributory\, kteří chtějí navá
 zat nové kontakty a prozkoumat obchodní příležitosti v Arménii. Fór
 um přivítá více než 100 mezinárodních společností a nabídne boha
 tý program\, který zahrnuje: B2B jednání a networkingové akcePanelov
 é diskuse a přehled investičních pobídekNávštěvy vybraných továr
 en a kulturní programTato akce je ideální pro firmy\, které zvažují 
 investice v Arménii nebo import arménských výrobků. Organizátoři pr
 o vybrané účastníky hradí ubytování\, catering a místní dopravu.Z
 ájemci z České republiky se mohou registrovat prostřednictvím tohoto 
 odkazu. Uzávěrka registrace je 9. září 2025. Upozorňujeme\, že úč
 ast bude potvrzována na základě pořadí přihlášek.V případě dota
 zů se můžete obrátit na paní Dianu Ghazaryan\, hlavní organizátorku
  akce: ghazaryan@icarmenia.am\, tel. +37491538382.\n
URL:https://www.spcr.cz/mezinarodni-obchodni-investicni-forum-v-armenii
DTSTART:20251016T080000
DTEND:20251018T180000
LOCATION:Jerevan
END:VEVENT
END:VCALENDAR
