BEGIN:VCALENDAR
PRODID:-//eluceo/ical//2.0/EN
VERSION:2.0
CALSCALE:GREGORIAN
BEGIN:VEVENT
UID:0473cce896a783d9115414edbf94d48d
DTSTAMP:20260423T162829Z
SUMMARY:Zdravotnictví pro budoucnost
DESCRIPTION:Název akce: Zdravotnictví pro budoucnost\nURL: https://www.sp
 cr.cz/zdravotnictvi-pro-budoucnost\nPopis: \nCo trápí české zdravotnic
 tví a jak mu pomoci? Přijďte diskutovat na konferenci Zdravotnictví pr
 o budoucnost.\nKvalitní a dostupná zdravotní péče vyžaduje systémov
 é změnyVíte\, že firmy v Česku přispívají do systému veřejného 
 zdravotního pojištění přibližně 70 % prostřednictvím odvodů za z
 aměstnance? Přesto mají na jeho směřování jen minimální vliv. Če
 sko potřebuje zdravotní systém\, který je dlouhodobě udržitelný\, e
 fektivní ve využívání zdrojů a otevřený technologiím\, prevenci a
  spolupráci se zaměstnavateli. Zdravotnictví není jen služba. Je to 
 klíčová infrastruktura moderní společnosti. Péče o zdraví je věc
 í každého jednotlivce\, ale zároveň zásadním veřejným zájmem.Zve
 me vás na konferenci Zdravotnictví pro budoucnost\, kde představíme no
 vou studii Svazu průmyslu a Iniciativy pro efektivní zdravotnictví s ko
 nkrétními kroky a doporučeními.Řečníci konferenceTomáš Kolář\, 
 expertní tým pro zdravotnictví\, Svaz průmyslu\, LinetJakub Hlávka\, 
 Iniciativa pro efektivní zdravotnictví Lenka Kaška\, expertní tým pr
 o elektronizaci zdravotnictví\, Svaz průmyslu\, PfizerFilip Vrubel\, Če
 ská asociace farmaceutických firemTémata konference Co nevyřešíme d
 nes\, to bude zítra systém bolet aneb co potřebuje český zdravotní s
 ystém ke zvýšení efektivity a dlouhodobé stability?Jaké konkrétní 
 kroky a doporučení přináší nová studie Svazu průmyslu a Institutu 
 pro efektivní zdravotnictví?Jak dát firmám hlas v systému\, který v
 ýrazně spolufinancují a jak chránit zaměstnavatele i zaměstnance př
 ed nesystémovým růstem odvodů?Další klíčová témata: data\, digit
 alizace a elektronizace\, ambulantní\, lůžková a následná péče\, l
 éčiva.[[CTA-tlacitko]]\n
URL:https://www.spcr.cz/zdravotnictvi-pro-budoucnost
DTSTART:20250910T090000
DTEND:20250910T120000
LOCATION:Rustonka\, Sokolovská 695/115B\, Praha 8
END:VEVENT
END:VCALENDAR
