BEGIN:VCALENDAR
PRODID:-//eluceo/ical//2.0/EN
VERSION:2.0
CALSCALE:GREGORIAN
BEGIN:VEVENT
UID:00d5811e621f93f548151968cd0ae1e7
DTSTAMP:20260423T125529Z
SUMMARY:ČR a Dominikánská republika – perspektivy a příležitosti
DESCRIPTION:Název akce: ČR a Dominikánská republika – perspektivy a p
 říležitosti\nURL: https://www.spcr.cz/cr-dominikanska-republika-perspek
 tivy-prilezitosti\nPopis: \n Ministerstvo průmyslu a obchodu ČR Vás zv
 e na online seminář „Česká republika a Dominikánská republika: per
 spektivy a příležitosti“\, který se uskuteční 17. září 2025 od 
 15:00 hod. prostřednictvím platformy MS Teams.\nSeminář nabídne prakt
 ické informace o obchodních a investičních příležitostech v Dominik
 ánské republice\, aktuálních trendech a perspektivních sektorech tét
 o země. Účastníci se dozvědí také více o výhodách dominikánský
 ch zón volného obchodu a získají přehled o českých i dominikánský
 ch programech na podporu exportu a investic. Součástí programu budou i 
 zkušenosti českých firem\, které se na tamním trhu úspěšně prosad
 ily. Podrobný program naleznete zde.Dominikánská republika je největš
 í ekonomikou karibského regionu a zároveň jeho hospodářským lídrem
 . Vyznačuje se stabilním makroekonomickým prostředím\, dlouhodobým r
 ůstem HDP (v průměru 5 % ročně v poslední dekádě) a otevřeností 
 vůči zahraničním investorům. Země je také nejvyhledávanější tur
 istickou destinací Karibiku a důležitou bránou pro obchod v regionu.Ak
 ci pořádá Ministerstvo průmyslu a obchodu ČR ve spolupráci s Ministe
 rstvem zahraničních věcí Dominikánské republiky\, Ministerstvem prů
 myslu\, obchodu a malých a středních podniků Dominikánské republiky\
 , Velvyslanectvím Dominikánské republiky ve Vídni\, Centrem pro export
  a investice Dominikánské republiky (ProDominicana)\, Velvyslanectvím 
 ČR v Havaně\, agenturou CzechTrade a Ministerstvem zemědělství  ČR.
 Účast na semináři je bezplatná a jednacím jazykem bude angličtina. 
 V případě zájmu se prosím registrujte zde  nejpozději do 16. zář
 í 2025. Odkaz na online připojení bude zaslán všem registrovaným ú
 častníkům. \n
URL:https://www.spcr.cz/cr-dominikanska-republika-perspektivy-prilezitosti
DTSTART:20250917T150000
DTEND:20250917T170000
LOCATION:
END:VEVENT
END:VCALENDAR
