BEGIN:VCALENDAR
PRODID:-//eluceo/ical//2.0/EN
VERSION:2.0
CALSCALE:GREGORIAN
BEGIN:VEVENT
UID:ee254f90b52149b18d094d6e34807bc4
DTSTAMP:20260423T150341Z
SUMMARY:První kroky k úspěšnému exportu
DESCRIPTION:Název akce: První kroky k úspěšnému exportu\nURL: https:/
 /www.spcr.cz/prvni-kroky-k-uspesnemu-exportu\nPopis: \n\nZačínáte s exp
 ortem a chcete získat jistotu při vstupu na zahraniční trhy? CzechTrad
 e pro vás připravila sérii kurzů #Ready2Export vhodných pro malé a s
 třední podniky plánující expanzi do zahraničí.Cíle semináře:Zač
 něte exportovat s jistotou a jasnou strategiíZískejte praktické tipy\,
  checklisty a inspiraci od odborníkůObjevte\, kde hledat spolehlivé inf
 ormace pro zahraniční trhyNaučte se připravit marketing\, který skute
 čně prodáváBuďte #Ready2Export. Získejte know-how a expandujte do sv
 ětaVíce informací k dispozici na tomto odkazu.\n
URL:https://www.spcr.cz/prvni-kroky-k-uspesnemu-exportu
DTSTART:20250916T093000
DTEND:20250916T123000
LOCATION:
END:VEVENT
END:VCALENDAR
