BEGIN:VCALENDAR
PRODID:-//eluceo/ical//2.0/EN
VERSION:2.0
CALSCALE:GREGORIAN
BEGIN:VEVENT
UID:a30311e23031e02929225a0b2dc1d8d9
DTSTAMP:20260423T145806Z
SUMMARY:Rumunsko – Exportní příležitosti a obchodní tipy
DESCRIPTION:Název akce: Rumunsko – Exportní příležitosti a obchodní
  tipy\nURL: https://www.spcr.cz/rumunsko-exportni-prilezitosti-obchodni-ti
 py\nPopis: \n\nDovolujeme si Vás pozvat na online seminář pořádaný a
 genturou CzechTrade zaměřený na podnikání v Rumunsku\, které je dest
 inací českých exportérů nejen díky své velikosti a geografické bl
 ízkosti\, ale i dynamicky se rozvíjejícím průmyslovým a technologick
 ým odvětvím.Cíle semináře:Objevte exportní příležitosti na rychl
 e rostoucím rumunském trhuZískejte přehled klíčových oborů\, trend
 ů a obchodních možnostíNaučte se právní základy podnikání v Rumu
 nsku bez chybInspirujte se příkladem české firmy s úspěchem v region
 uBližší informace k dispozici na webu CT.\n
URL:https://www.spcr.cz/rumunsko-exportni-prilezitosti-obchodni-tipy
DTSTART:20250917T100000
DTEND:20250917T113000
LOCATION:
END:VEVENT
END:VCALENDAR
