BEGIN:VCALENDAR
PRODID:-//eluceo/ical//2.0/EN
VERSION:2.0
CALSCALE:GREGORIAN
BEGIN:VEVENT
UID:a15988fdf89f4ab7c17e46f1d9004eee
DTSTAMP:20260423T163304Z
SUMMARY:Indonésie - Nanotechnologie a obchodní příležitosti
DESCRIPTION:Název akce: Indonésie - Nanotechnologie a obchodní přílež
 itosti\nURL: https://www.spcr.cz/indonesie-nanotechnologie-obchodni-prilez
 itosti\nPopis: \n\n•    Poznejte inovační příležitosti v Indon
 ésii s důrazem na nanotechnologie•    Získejte přehled ekonomiky
 \, exportních šancí i podnikatelských misí•    Objevte\, jak na
 vazovat obchodní vztahy na dynamickém trhu•    Seznamte se s agent
 urou BRIN a aktuálními R&D trendyAgentura CzechTrade Vás zve na online 
 exportní seminář zaměřený na obchodní a inovační příležitosti 
 v Indonésii se zvláštním důrazem na nanotechnologie. Více informac
 í k dispozici zde. \n
URL:https://www.spcr.cz/indonesie-nanotechnologie-obchodni-prilezitosti
DTSTART:20250923T100000
DTEND:20250923T113000
LOCATION:
END:VEVENT
END:VCALENDAR
