BEGIN:VCALENDAR
PRODID:-//eluceo/ical//2.0/EN
VERSION:2.0
CALSCALE:GREGORIAN
BEGIN:VEVENT
UID:17f24d13aade9d876050f1a331a05fd1
DTSTAMP:20260423T125523Z
SUMMARY:Jak uspět se startupem na zahraničních trzích
DESCRIPTION:Název akce: Jak uspět se startupem na zahraničních trzích\
 nURL: https://www.spcr.cz/jak-uspet-se-startupem-na-zahranicnich-trzich\nP
 opis: \n\n•    Plánujete expanzi startupu do zahraničí a hledáte
  jistotu?•    Zjistěte\, jak se liší strategie startupů a tradi
 čních firem•    Poznejte služby CzechTrade: Startup Entry\, netwo
 rking\, mentoring i investory•    Inspirovat vás budou úspěšné 
 české startupy z globálního trhu•    Buďte #Ready2Export. Získ
 ejte know-how a expandujte do světaPřipojte se k online semináři poř
 ádaném agenturou CzechTrade zaměřenému na podporu startupů v jejich 
 mezinárodní expanzi.Více informací k dispozici zde. \n
URL:https://www.spcr.cz/jak-uspet-se-startupem-na-zahranicnich-trzich
DTSTART:20250924T100000
DTEND:20250924T113000
LOCATION:
END:VEVENT
END:VCALENDAR
