BEGIN:VCALENDAR
PRODID:-//eluceo/ical//2.0/EN
VERSION:2.0
CALSCALE:GREGORIAN
BEGIN:VEVENT
UID:eaf919913a79324f977fb4e7aa2ce8ba
DTSTAMP:20260423T150132Z
SUMMARY:LinkedIn pro exportéry
DESCRIPTION:Název akce: LinkedIn pro exportéry\nURL: https://www.spcr.cz/
 linkedin-pro-exportery-3\nPopis: \n\n•    Naučte se využít Linked
 In jako nástroj exportu•    Optimalizujte svůj profil a zaujměte 
 zahraniční obchodní partnery.•    Zvládněte vyhledávání a bu
 dování vztahů na světových trzích•    Získejte tipy pro obsah
 \, který podporuje vaši expanzi•    Buďte #Ready2Export. Získejt
 e know-how a expandujte do světaPřipojte se k semináři pořádaném ag
 enturou CzechTrade zaměřenému na podporu exportérů.Více informací k
  dispozici zde. \n
URL:https://www.spcr.cz/linkedin-pro-exportery-3
DTSTART:20251001T093000
DTEND:20251001T163000
LOCATION:CzechTrade\, Štepánská 567/15\, 12000 Praha 2\, Česká republi
 ka
END:VEVENT
END:VCALENDAR
