BEGIN:VCALENDAR
PRODID:-//eluceo/ical//2.0/EN
VERSION:2.0
CALSCALE:GREGORIAN
BEGIN:VEVENT
UID:c9d744ce3880fa9836d0f3464f41df53
DTSTAMP:20260423T172959Z
SUMMARY:Německo a Polsko: první exportní trh
DESCRIPTION:Název akce: Německo a Polsko: první exportní trh\nURL: http
 s://www.spcr.cz/nemecko-polsko-prvni-exportni-trh\nPopis: \n\n•    Z
 jistěte\, jak úspěšně vstoupit na německý a polský trh•    Z
 ískejte aktuální přehled příležitostí a perspektivních oborů v o
 bou zemích•    Naučte se vyhledávat obchodní partnery a efektivn
 ě je oslovit•    Objevte tipy pro komunikaci\, digitální marketin
 g a networking•    Buďte #Ready2Export. Získejte know-how a expand
 ujte do světaPřipojte se k sérii seminářů #Ready2Export pořádanýc
 h agenturou CzechTrade vhodných pro malé a střední podniky plánujíc
 í expanzi do zahraničí. Více informací k dispozici zde. \n
URL:https://www.spcr.cz/nemecko-polsko-prvni-exportni-trh
DTSTART:20251007T140000
DTEND:20251007T160000
LOCATION:Administrativní budova BVV - Kinosál 102\, Výstaviště 405/1\,
  603 00 Brno\, Česká republika
END:VEVENT
END:VCALENDAR
