BEGIN:VCALENDAR
PRODID:-//eluceo/ical//2.0/EN
VERSION:2.0
CALSCALE:GREGORIAN
BEGIN:VEVENT
UID:4e7df70f1bb3b5f6e07e798575f5b273
DTSTAMP:20260423T163428Z
SUMMARY:Akviziční telefonáty a vedení obchodních případů
DESCRIPTION:Název akce: Akviziční telefonáty a vedení obchodních př
 ípadů\nURL: https://www.spcr.cz/akvizicni-telefonaty-vedeni-obchodnich-p
 ripadu\nPopis: \n\n•    Získejte jistotu v akvizičním telefonová
 ní a obchodní komunikaci•    Naučte se strukturu úspěšného co
 ld callu a překonávání námitek•    Osvojte si psychologii prode
 je a mentální přípravu na hovory•    Zvládněte systematické v
 edení obchodního případu až k uzavření•    Buďte #Ready2Expo
 rt. Získejte know-how a expandujte do světaZúčastněte se dalšího ku
 rzu ze série #Ready2Export vhodných pro malé a střední podniky plánu
 jící expanzi do zahraničí připravených agenturou CzechTrade.Bližš
 í informace k dispozici zde.  \n
URL:https://www.spcr.cz/akvizicni-telefonaty-vedeni-obchodnich-pripadu
DTSTART:20251022T093000
DTEND:20251022T163000
LOCATION:CzechTrade\, Štepánská 567/15\, 12000 Praha 2\, Česká republi
 ka
END:VEVENT
END:VCALENDAR
