BEGIN:VCALENDAR
PRODID:-//eluceo/ical//2.0/EN
VERSION:2.0
CALSCALE:GREGORIAN
BEGIN:VEVENT
UID:d5962a46d7d319b986c29df842d1775a
DTSTAMP:20260423T163435Z
SUMMARY:Kontakt-Kontrakt – získejte nové kontaky na MSV
DESCRIPTION:Název akce: Kontakt-Kontrakt – získejte nové kontaky na MS
 V\nURL: https://www.spcr.cz/kontakt-kontrakt-ziskejte-nove-kontaky-na-msv\
 nPopis: \nAkce Kontakt-Kontrakt již po šestnácté doprovází Mezináro
 dní strojírenský veletrh v Brně a díky ní si účastníci mají mož
 nost efektivně vybrat vhodné partnery pro jednání a zorganizovat si sv
 é schůzky na veletrhu. Loni se jí fyzicky zúčastnilo téměř čtyř
 i stovky účastníků z 23 zemí světa. Každý účastník si může z
 volit kterých dní se akce Kontakt-Kontrakt zúčastní\, při 4denní ú
 časti je možné zrealizovat až 39 schůzek.\n5 kroků k vaší úspě
 šné účastiRegistrujte se na webu akce kk.rhkb.cz\, kde vyplníte svůj
  kooperační profil – charakterizujete svou firmu\, co nabízí\, popt
 ává. Nezáleží přitom na tom\, zda jste návštěvník\, anebo vystav
 ovatel. Zaškrtnete také\, kdy se můžete akce účastnit. Je možné ja
 k po celou dobu konání\, tak i jen půl dne. Organizátoři doporučují
  účast na jeden až dva dny.Organizátoři váš profil zkontrolují a z
 veřejní v katalogu účastníků. Přednostně jsou zveřejňovány pro
 fily odpovídající nomenklatuře veletrhu.Z katalogu si potom můžete 
 vybírat ty nejvhodnější partnery a požádat je o schůzku. V katalog
 u vidíte seznam firem\, jejich charakteristiku\, popis produktů či slu
 žeb i konkrétní osobu\, která je otevřená ke schůzkám. V katalogu
  se dá filtrovat podle různých kritérií a je možné využít i dopor
 učení vhodných partnerů od umělé inteligence.Potvrzená jednání se
  potom uskuteční ve smluveném čase během konání MSV. Návštěvníc
 i dostanou pro každou jednotlivou schůzku přiděleno jednací místo v
  rámci stánku Kontakt-Kontrakt. Vystavovatelé ale mohou své schůzky 
 mít na svém stánku\, a tak k sobě přilákat více návštěvníků. Z
 da se prvotní kontakt nakonec transformuje v dlouhodobý kontrakt\, to u
 ž záleží na obou stranách. Organizátoři K+K jsou k dispozici jak p
 řed\, během\, tak i po skončení K+K.S důrazem na kyberbezpečnost a 
 digitalizaci Účastníci budou moci získat přehled o službách digita
 lizace a kyberbezpečnosti\, které jsou bezplatně poskytovány v rámci
  projektu Cybersecurity Innovation Hub.Kontakt-Kontrakt se koná ve dnech 
 7.–10. října a organizuje ho Regionální hospodářská komora Brno v
  rámci projektu Cybersecurity Innovation Hub. Akce je financována z ro
 zpočtu Evropské unie a Ministerstva průmyslu a obchodu\, pro účastní
 ky je tedy zdarma. Udělejte první krok Chcete se registrovat? Jděte n
 a web kk.rhkb.cz a postupujte návodným registračním formulářem.Máte
  dotazy či nejasnosti? Více informací se dozvíte na webu kk.rhkb.cz\, 
 anebo u Jany Šindelkové\, sindelkova@rhkb.cz\, 532 194 922.\n
URL:https://www.spcr.cz/kontakt-kontrakt-ziskejte-nove-kontaky-na-msv
DTSTART:20251007T080000
DTEND:20251010T180000
LOCATION:
END:VEVENT
END:VCALENDAR
