BEGIN:VCALENDAR
PRODID:-//eluceo/ical//2.0/EN
VERSION:2.0
CALSCALE:GREGORIAN
BEGIN:VEVENT
UID:8db2d13d82b145a42409ac168d414e63
DTSTAMP:20260423T130015Z
SUMMARY:EU–Zambia Lobito Corridor Global Gateway Forum
DESCRIPTION:Název akce: EU–Zambia Lobito Corridor Global Gateway Forum\n
 URL: https://www.spcr.cz/eu-zambia-lobito-corridor-global-gateway-forum\nP
 opis: \nVelvyslanectví ČR v Lusace zve české firmy a organizace k úč
 asti na obchodní misi do Zambie\, která proběhne v rámci Lobito korido
 r Global Gateway Fóra. Akce se uskuteční ve dnech 12.–14. listopadu 2
 025 v Lusace a je příležitostí k navázání obchodních kontaktů v p
 erspektivních sektorech afrických trhů. Cílem fóra je podpořit konk
 rétní projektové příležitosti a prohloubit či zprostředkovat B2B/B
 2G napojení v klíčových sektorech Lobito koridoru.Koridor Lobito je ž
 elezniční spojení z angolského přístavu Lobito přes Angolu\, Demokr
 atickou republiku Kongo a Zambii s napojením na východní Afriku. Projek
 t podporovaný EU a USA má usnadnit export kritických surovin\, jako jso
 u měď\, kobalt či nikl\, a posílit hospodářský rozvoj regionu. Pro 
 Evropu představuje klíčovou cestu k diverzifikaci dodávek a snížení
  závislosti na Číně.\nSektorové zaměření:těžební a zpracovatels
 ký průmyslgeologický průzkum a environmentální technologieenergetika
  včetně obnovitelných zdrojůzemědělstvíProgram a formát akce:Úča
 st na hlavním EU-Zambia Business Fóru pořádaném Evropskou unií a Del
 egací EU v Zambii (zahájení za účasti prezidenta Zambie a eurokomisa
 ře pro mezinárodní partnerství Jozefa Síkely).Zapojení do side event
 ů (kulaté stoly\, sektorové panelové diskuze)\, společenských akcíc
 h a možnost firemní prezentace/stánku.Individuální B2B a B2G matchmak
 ing s mezinárodními partnery (registrace pro firmy z EU zdarma).Možnost
  aktivního vystoupení na fóru - koordinuje ZÚ Lusaka ve spolupráci s 
 Delegací EU v Zambii.Praktické informace:Část nákladů (místní tran
 sfery\, společenská akce) bude hrazena z programu PROPED\, poskytnutnéh
 o Ministerstvem průmyslu a obchodu ČR.Ubytování a letenky si zajišťu
 jí účastníci sami (doporučené hotely: Ciela Resort\, Protea Lusaka A
 irport\, Radisson Blu).Kontaktní osoba:V případě zájmu o účast se p
 rosím registrujte na stránkách Delegace EU (viz odkaz níže) a zárove
 ň kontaktujte ZÚ Lusaka\, které zodpoví i vaše případné dotazy:Mil
 an KalcůVedoucí oddělení ekonomické a rozvojové spolupráce\, Velvys
 lanectví ČR v Lusace📞 +260 762 031 290 | ✉️ milan.kalcu@mzv.gov.c
 z   Důležité odkazy:WEB AKCEREGISTRACEPROGRAMZAMBIE – teritoriáln
 í informace\n
URL:https://www.spcr.cz/eu-zambia-lobito-corridor-global-gateway-forum
DTSTART:20251112T080000
DTEND:20251114T180000
LOCATION:Lusaka
END:VEVENT
END:VCALENDAR
