BEGIN:VCALENDAR
PRODID:-//eluceo/ical//2.0/EN
VERSION:2.0
CALSCALE:GREGORIAN
BEGIN:VEVENT
UID:6e743556ff7c21e437106acd6b46026b
DTSTAMP:20260423T125357Z
SUMMARY:Aramco Pan European Supplier Summit
DESCRIPTION:Název akce: Aramco Pan European Supplier Summit\nURL: https://
 www.spcr.cz/aramco-pan-european-supplier-summit\nPopis: \nZveme vám na Ar
 amco Pan European Supplier Summit\, který se uskuteční ve dnech 1.–2.
  října 2025 v hotelu Anantara Grand Hotel Krasnapolsky v Amsterdamu\n P
 roč se zúčastnit?Summit je jedinečnou příležitostí setkat se s kl
 íčovými zástupci vedení nákupního oddělení společnosti Aramco a 
 získat komplexní přehled o příležitostech vyplývajících z globál
 ního programu kapitálových investic. Akce nabídne:Příležitosti k na
 vázání kontaktů: Setkáte se s vedoucími pracovníky z oblasti nákup
 u\, projektového managementu a dalších klíčových oddělení Aramco.P
 raktické workshopy: Získáte cenné informace o požadavcích na kvalifi
 kaci výrobců a dodavatelů a o programu In-Kingdom Total Value Add (iktv
 a).B2B setkání: Prodiskutujete potenciální obchodní partnerství a bu
 doucí spolupráci. RegistracePočet míst na akci je omezen\, proto dopo
 ručujeme včasnou registraci k zajištění vaší účasti. Registrace s
 e uzavírá 24. září 2025.Zaregistrujte se zde Saudi Aramco\, celým n
 ázvem Saudi Arabian Oil Company\, je globální energetický a chemický 
 gigant\, který hraje klíčovou roli na světovém trhu. Jako největší
  světový producent ropy a jedna z nejhodnotnějších společností na s
 větě se podílí na průzkumu\, těžbě\, rafinaci i distribuci ropy a 
 plynu. Kromě toho se aktivně angažuje v modernizaci energetického sekt
 oru\, diverzifikaci svého portfolia a inovacích. Účastí na summitu z
 ískáte jedinečný pohled na příležitosti\, které se otevírají v r
 ámci rozsáhlého globálního kapitálového programu a dodavatelsko-odb
 ěratelského řetězce. \n
URL:https://www.spcr.cz/aramco-pan-european-supplier-summit
DTSTART:20251001T080000
DTEND:20251002T180000
LOCATION:Amsterdam
END:VEVENT
END:VCALENDAR
