BEGIN:VCALENDAR
PRODID:-//eluceo/ical//2.0/EN
VERSION:2.0
CALSCALE:GREGORIAN
BEGIN:VEVENT
UID:22dd8c374e4127697a3a6c8f64359b69
DTSTAMP:20260423T150422Z
SUMMARY:Ochrana duševního vlastnictví při exportu
DESCRIPTION:Název akce: Ochrana duševního vlastnictví při exportu\nURL
 : https://www.spcr.cz/ochrana-dusevniho-vlastnictvi-pri-exportu-0\nPopis: 
 \n\n•    Chraňte své inovace a značky při zahraniční expanzi
 •    Zjistěte\, kdy zvolit patent\, ochrannou známku nebo průmysl
 ový vzor•    Poznejte rozdíly mezi českým a zahraničním právn
 ím systémem•    Naučte se nastavit interní pravidla a vyhnout se
  sporům•    Buďte #Ready2Export. Získejte know-how a expandujte d
 o světaZveme Vás na další ze série online kurzů #Ready2Export připr
 avených agenturou CzechTrade vhodných pro malé a střední podniky plá
 nující expanzi do zahraničí. Na seminářích se dozvíte\, jak si nas
 tavit exportní strategii\, připravit přesvědčivé marketingové mater
 iály\, zvládnout obchodní jednání i online schůzky a vyhnout se čas
 tým chybám.Podrobné informace k akci k dispozici zde. \n
URL:https://www.spcr.cz/ochrana-dusevniho-vlastnictvi-pri-exportu-0
DTSTART:20251113T100000
DTEND:20251113T113000
LOCATION:
END:VEVENT
END:VCALENDAR
