BEGIN:VCALENDAR
PRODID:-//eluceo/ical//2.0/EN
VERSION:2.0
CALSCALE:GREGORIAN
BEGIN:VEVENT
UID:79cc149fcc6d7f80145bec4175a20de2
DTSTAMP:20260423T130007Z
SUMMARY:Jak připravit web a značku k úspěšné expanzi do zahraničí
DESCRIPTION:Název akce: Jak připravit web a značku k úspěšné expanzi
  do zahraničí\nURL: https://www.spcr.cz/jak-pripravit-web-znacku-k-uspes
 ne-expanzi-do-zahranici\nPopis: \n\n•    Naučte se připravit web a
  vizuální identitu pro export•    Získejte tipy na tvorbu efektiv
 ních propagačních materiálů•    Objevte\, jak komunikovat svou 
 značku zahraničním zákazníkům•    Více informací již brzy
 •    Buďte #Ready2Export a zvyšte úspěšnost své expanzeZveme V
 ás na další ze série online kurzů #Ready2Export připravených agentu
 rou CzechTrade vhodných pro malé a střední podniky plánující expanz
 i do zahraničí. Na seminářích se dozvíte\, jak si nastavit exportní
  strategii\, připravit přesvědčivé marketingové materiály\, zvládn
 out obchodní jednání i online schůzky a vyhnout se častým chybám.Po
 drobné informace k akci k dispozici zde. \n
URL:https://www.spcr.cz/jak-pripravit-web-znacku-k-uspesne-expanzi-do-zahra
 nici
DTSTART:20251209T093000
DTEND:20251209T163000
LOCATION:CzechTrade\, Štepánská 567/15\, 12000 Praha 2\, Česká republi
 ka
END:VEVENT
END:VCALENDAR
